BEGIN:VCALENDAR
VERSION:2.0
PRODID:-//BCCAT - ECPv6.15.19//NONSGML v1.0//EN
CALSCALE:GREGORIAN
METHOD:PUBLISH
X-WR-CALNAME:BCCAT
X-ORIGINAL-URL:https://www.bccat.ca
X-WR-CALDESC:Events for BCCAT
REFRESH-INTERVAL;VALUE=DURATION:PT1H
X-Robots-Tag:noindex
X-PUBLISHED-TTL:PT1H
BEGIN:VTIMEZONE
TZID:America/Vancouver
BEGIN:DAYLIGHT
TZOFFSETFROM:-0800
TZOFFSETTO:-0700
TZNAME:PDT
DTSTART:20240310T100000
END:DAYLIGHT
BEGIN:STANDARD
TZOFFSETFROM:-0700
TZOFFSETTO:-0800
TZNAME:PST
DTSTART:20241103T090000
END:STANDARD
BEGIN:DAYLIGHT
TZOFFSETFROM:-0800
TZOFFSETTO:-0700
TZNAME:PDT
DTSTART:20250309T100000
END:DAYLIGHT
BEGIN:STANDARD
TZOFFSETFROM:-0700
TZOFFSETTO:-0800
TZNAME:PST
DTSTART:20251102T090000
END:STANDARD
BEGIN:DAYLIGHT
TZOFFSETFROM:-0800
TZOFFSETTO:-0700
TZNAME:PDT
DTSTART:20260308T100000
END:DAYLIGHT
BEGIN:STANDARD
TZOFFSETFROM:-0700
TZOFFSETTO:-0800
TZNAME:PST
DTSTART:20261101T090000
END:STANDARD
END:VTIMEZONE
BEGIN:VEVENT
DTSTART;VALUE=DATE:20251208
DTEND;VALUE=DATE:20251209
DTSTAMP:20260425T041431
CREATED:20250205T230422Z
LAST-MODIFIED:20250205T230422Z
UID:10000229-1765152000-1765238399@www.bccat.ca
SUMMARY:Council
DESCRIPTION:
URL:https://www.bccat.ca/articulation-calendar/council-11/
LOCATION:BCIT – Downtown Campus
CATEGORIES:Council
END:VEVENT
BEGIN:VEVENT
DTSTART;VALUE=DATE:20251119
DTEND;VALUE=DATE:20251121
DTSTAMP:20260425T041431
CREATED:20250821T173746Z
LAST-MODIFIED:20250821T173746Z
UID:10000265-1763510400-1763683199@www.bccat.ca
SUMMARY:HCA
DESCRIPTION:
URL:https://www.bccat.ca/articulation-calendar/hca/
LOCATION:Online
END:VEVENT
BEGIN:VEVENT
DTSTART;VALUE=DATE:20251118
DTEND;VALUE=DATE:20251120
DTSTAMP:20260425T041431
CREATED:20220927T042333Z
LAST-MODIFIED:20250821T173641Z
UID:10000078-1763424000-1763596799@www.bccat.ca
SUMMARY:Practical Nursing
DESCRIPTION:
URL:https://www.bccat.ca/articulation-calendar/pn/
LOCATION:Online
END:VEVENT
BEGIN:VEVENT
DTSTART;VALUE=DATE:20251023
DTEND;VALUE=DATE:20251025
DTSTAMP:20260425T041431
CREATED:20250731T172631Z
LAST-MODIFIED:20250813T173306Z
UID:10000134-1761177600-1761350399@www.bccat.ca
SUMMARY:ABE Social Science
DESCRIPTION:
URL:https://www.bccat.ca/articulation-calendar/abe-social-science/
LOCATION:VCC – Vancouver Downtown Campus
CATEGORIES:Articulation Committees
END:VEVENT
BEGIN:VEVENT
DTSTART;VALUE=DATE:20251023
DTEND;VALUE=DATE:20251025
DTSTAMP:20260425T041431
CREATED:20250731T172552Z
LAST-MODIFIED:20250813T173341Z
UID:10000133-1761177600-1761350399@www.bccat.ca
SUMMARY:ABE Science
DESCRIPTION:
URL:https://www.bccat.ca/articulation-calendar/abe-science/
LOCATION:VCC – Vancouver Downtown Campus
END:VEVENT
BEGIN:VEVENT
DTSTART;VALUE=DATE:20251023
DTEND;VALUE=DATE:20251025
DTSTAMP:20260425T041431
CREATED:20250711T232821Z
LAST-MODIFIED:20250813T181852Z
UID:10000075-1761177600-1761350399@www.bccat.ca
SUMMARY:Hairstylist
DESCRIPTION:
URL:https://www.bccat.ca/articulation-calendar/hairstylist-5/
LOCATION:Online
END:VEVENT
BEGIN:VEVENT
DTSTART;VALUE=DATE:20251023
DTEND;VALUE=DATE:20251025
DTSTAMP:20260425T041431
CREATED:20250325T181929Z
LAST-MODIFIED:20250325T181942Z
UID:10000248-1761177600-1761350399@www.bccat.ca
SUMMARY:ABE Fundamental
DESCRIPTION:
URL:https://www.bccat.ca/articulation-calendar/abe-fundamental-3/
LOCATION:VCC – Vancouver Downtown Campus
CATEGORIES:Articulation Committees
END:VEVENT
BEGIN:VEVENT
DTSTART;VALUE=DATE:20251010
DTEND;VALUE=DATE:20251011
DTSTAMP:20260425T041431
CREATED:20250205T230355Z
LAST-MODIFIED:20250919T214337Z
UID:10000228-1760054400-1760140799@www.bccat.ca
SUMMARY:Council
DESCRIPTION:
URL:https://www.bccat.ca/articulation-calendar/council-10/
LOCATION:Online
CATEGORIES:Council
END:VEVENT
BEGIN:VEVENT
DTSTART;VALUE=DATE:20251003
DTEND;VALUE=DATE:20251004
DTSTAMP:20260425T041431
CREATED:20241126T184712Z
LAST-MODIFIED:20250226T231820Z
UID:10000220-1759449600-1759535999@www.bccat.ca
SUMMARY:Research Committee
DESCRIPTION:
URL:https://www.bccat.ca/articulation-calendar/research-committee-3/
LOCATION:BCIT-Downtown Campus (BCCAT Boardroom 711)
CATEGORIES:Research
END:VEVENT
BEGIN:VEVENT
DTSTART;VALUE=DATE:20250926
DTEND;VALUE=DATE:20250927
DTSTAMP:20260425T041431
CREATED:20241126T184342Z
LAST-MODIFIED:20241126T184515Z
UID:10000219-1758844800-1758931199@www.bccat.ca
SUMMARY:Admissions Committee
DESCRIPTION:
URL:https://www.bccat.ca/articulation-calendar/admissions-committee-3/
LOCATION:BCIT-Downtown Campus (BCCAT Boardroom 711)
CATEGORIES:Admissions
END:VEVENT
BEGIN:VEVENT
DTSTART;VALUE=DATE:20250919
DTEND;VALUE=DATE:20250920
DTSTAMP:20260425T041431
CREATED:20250226T230217Z
LAST-MODIFIED:20250916T214856Z
UID:10000237-1758240000-1758326399@www.bccat.ca
SUMMARY:TAC
DESCRIPTION:
URL:https://www.bccat.ca/articulation-calendar/tac-7/
LOCATION:Online
CATEGORIES:TAC
END:VEVENT
BEGIN:VEVENT
DTSTART;VALUE=DATE:20250623
DTEND;VALUE=DATE:20250625
DTSTAMP:20260425T041431
CREATED:20250304T181731Z
LAST-MODIFIED:20250304T181731Z
UID:10000238-1750636800-1750809599@www.bccat.ca
SUMMARY:Heavy Mechanical Trades
DESCRIPTION:
URL:https://www.bccat.ca/articulation-calendar/heavy-mechanical-trades-2/
LOCATION:TRU – Kamloops Campus
CATEGORIES:Articulation Committees
END:VEVENT
BEGIN:VEVENT
DTSTART;VALUE=DATE:20250617
DTEND;VALUE=DATE:20250619
DTSTAMP:20260425T041431
CREATED:20250312T201210Z
LAST-MODIFIED:20250312T201210Z
UID:10000243-1750118400-1750291199@www.bccat.ca
SUMMARY:Carpentry
DESCRIPTION:
URL:https://www.bccat.ca/articulation-calendar/carpentry-2/
LOCATION:College of the Rockies – Cranbrook Campus
CATEGORIES:Articulation Committees
END:VEVENT
BEGIN:VEVENT
DTSTART;VALUE=DATE:20250617
DTEND;VALUE=DATE:20250618
DTSTAMP:20260425T041431
CREATED:20250415T203357Z
LAST-MODIFIED:20250415T203357Z
UID:10000255-1750118400-1750204799@www.bccat.ca
SUMMARY:Drafting Technologies
DESCRIPTION:
URL:https://www.bccat.ca/articulation-calendar/drafting-technologies/
LOCATION:VCC – Vancouver Downtown Campus
CATEGORIES:Articulation Committees
END:VEVENT
BEGIN:VEVENT
DTSTART;VALUE=DATE:20250611
DTEND;VALUE=DATE:20250613
DTSTAMP:20260425T041431
CREATED:20250326T222357Z
LAST-MODIFIED:20250326T222357Z
UID:10000250-1749600000-1749772799@www.bccat.ca
SUMMARY:Forestry and SRM
DESCRIPTION:
URL:https://www.bccat.ca/articulation-calendar/forestry-and-srm-2/
LOCATION:VIU – Nanaimo Campus
CATEGORIES:Articulation Committees
END:VEVENT
BEGIN:VEVENT
DTSTART;VALUE=DATE:20250609
DTEND;VALUE=DATE:20250610
DTSTAMP:20260425T041431
CREATED:20250205T230326Z
LAST-MODIFIED:20250507T203000Z
UID:10000227-1749427200-1749513599@www.bccat.ca
SUMMARY:Council
DESCRIPTION:
URL:https://www.bccat.ca/articulation-calendar/council-9/
LOCATION:Online
CATEGORIES:Council
END:VEVENT
BEGIN:VEVENT
DTSTART;VALUE=DATE:20250527
DTEND;VALUE=DATE:20250528
DTSTAMP:20260425T041431
CREATED:20250429T174347Z
LAST-MODIFIED:20250429T174347Z
UID:10000258-1748304000-1748390399@www.bccat.ca
SUMMARY:Theatre
DESCRIPTION:
URL:https://www.bccat.ca/articulation-calendar/theatre-2/
LOCATION:Online
CATEGORIES:Articulation Committees
END:VEVENT
BEGIN:VEVENT
DTSTART;VALUE=DATE:20250526
DTEND;VALUE=DATE:20250528
DTSTAMP:20260425T041431
CREATED:20250313T195230Z
LAST-MODIFIED:20250313T195230Z
UID:10000244-1748217600-1748390399@www.bccat.ca
SUMMARY:Human Service Programs
DESCRIPTION:
URL:https://www.bccat.ca/articulation-calendar/human-service-programs-2/
LOCATION:Camosun College – Interurban Campus
CATEGORIES:Articulation Committees
END:VEVENT
BEGIN:VEVENT
DTSTART;VALUE=DATE:20250526
DTEND;VALUE=DATE:20250527
DTSTAMP:20260425T041431
CREATED:20240611T174215Z
LAST-MODIFIED:20240611T174254Z
UID:10000211-1748217600-1748303999@www.bccat.ca
SUMMARY:Agriculture / Horticulture
DESCRIPTION:
URL:https://www.bccat.ca/articulation-calendar/agriculture-horticulture/
LOCATION:UBC – Vancouver Campus
CATEGORIES:Articulation Committees
END:VEVENT
BEGIN:VEVENT
DTSTART;VALUE=DATE:20250523
DTEND;VALUE=DATE:20250524
DTSTAMP:20260425T041431
CREATED:20250123T174939Z
LAST-MODIFIED:20250123T175116Z
UID:10000225-1747958400-1748044799@www.bccat.ca
SUMMARY:Philosophy
DESCRIPTION:
URL:https://www.bccat.ca/articulation-calendar/philosophy-2/
LOCATION:University Canada West – Vancouver Campus
CATEGORIES:Articulation Committees
END:VEVENT
BEGIN:VEVENT
DTSTART;VALUE=DATE:20250523
DTEND;VALUE=DATE:20250524
DTSTAMP:20260425T041431
CREATED:20241126T184832Z
LAST-MODIFIED:20250507T203031Z
UID:10000221-1747958400-1748044799@www.bccat.ca
SUMMARY:TAC
DESCRIPTION:
URL:https://www.bccat.ca/articulation-calendar/tac-6/
LOCATION:Online
CATEGORIES:TAC
END:VEVENT
BEGIN:VEVENT
DTSTART;VALUE=DATE:20250522
DTEND;VALUE=DATE:20250524
DTSTAMP:20260425T041431
CREATED:20250326T210743Z
LAST-MODIFIED:20250326T210743Z
UID:10000249-1747872000-1748044799@www.bccat.ca
SUMMARY:Visual Art & Design
DESCRIPTION:
URL:https://www.bccat.ca/articulation-calendar/visual-art-design-2/
LOCATION:University of Victoria
CATEGORIES:Articulation Committees
END:VEVENT
BEGIN:VEVENT
DTSTART;VALUE=DATE:20250522
DTEND;VALUE=DATE:20250524
DTSTAMP:20260425T041431
CREATED:20250313T195550Z
LAST-MODIFIED:20250313T195550Z
UID:10000245-1747872000-1748044799@www.bccat.ca
SUMMARY:EAL
DESCRIPTION:
URL:https://www.bccat.ca/articulation-calendar/eal-2/
LOCATION:BCIT – Downtown Campus
CATEGORIES:Articulation Committees
END:VEVENT
BEGIN:VEVENT
DTSTART;VALUE=DATE:20250520
DTEND;VALUE=DATE:20250523
DTSTAMP:20260425T041431
CREATED:20240611T205144Z
LAST-MODIFIED:20240611T205144Z
UID:10000213-1747699200-1747958399@www.bccat.ca
SUMMARY:AET
DESCRIPTION:
URL:https://www.bccat.ca/articulation-calendar/aet/
LOCATION:Camosun College – Landsdown Campus
CATEGORIES:Articulation Committees
END:VEVENT
BEGIN:VEVENT
DTSTART;VALUE=DATE:20250513
DTEND;VALUE=DATE:20250515
DTSTAMP:20260425T041431
CREATED:20250304T183557Z
LAST-MODIFIED:20250306T190019Z
UID:10000239-1747094400-1747267199@www.bccat.ca
SUMMARY:Mathematics-Statistics
DESCRIPTION:
URL:https://www.bccat.ca/articulation-calendar/mathematics-statistics-2/
LOCATION:Okanagan College – Penticton Campus\, 583 Duncan Ave. West\, Penticton\, BC\, V2A 8E1\, Canada
CATEGORIES:Articulation Committees
END:VEVENT
BEGIN:VEVENT
DTSTART;VALUE=DATE:20250509
DTEND;VALUE=DATE:20250510
DTSTAMP:20260425T041431
CREATED:20250317T165945Z
LAST-MODIFIED:20250317T165945Z
UID:10000246-1746748800-1746835199@www.bccat.ca
SUMMARY:Sociology
DESCRIPTION:
URL:https://www.bccat.ca/articulation-calendar/sociology-3/
LOCATION:Capilano University
CATEGORIES:Articulation Committees
END:VEVENT
BEGIN:VEVENT
DTSTART;VALUE=DATE:20250509
DTEND;VALUE=DATE:20250510
DTSTAMP:20260425T041431
CREATED:20250213T222752Z
LAST-MODIFIED:20250213T222752Z
UID:10000232-1746748800-1746835199@www.bccat.ca
SUMMARY:SCOLA
DESCRIPTION:
URL:https://www.bccat.ca/articulation-calendar/scola-3/
LOCATION:Douglas College – New Westminster Campus
CATEGORIES:Articulation Committees
END:VEVENT
BEGIN:VEVENT
DTSTART;VALUE=DATE:20250509
DTEND;VALUE=DATE:20250510
DTSTAMP:20260425T041431
CREATED:20241128T231211Z
LAST-MODIFIED:20241128T231211Z
UID:10000224-1746748800-1746835199@www.bccat.ca
SUMMARY:Chemistry
DESCRIPTION:
URL:https://www.bccat.ca/articulation-calendar/chemistry-2/
LOCATION:University of Northern BC
CATEGORIES:Articulation Committees
END:VEVENT
BEGIN:VEVENT
DTSTART;VALUE=DATE:20250508
DTEND;VALUE=DATE:20250510
DTSTAMP:20260425T041431
CREATED:20250205T180020Z
LAST-MODIFIED:20250205T184208Z
UID:10000226-1746662400-1746835199@www.bccat.ca
SUMMARY:CAMAC
DESCRIPTION:
URL:https://www.bccat.ca/articulation-calendar/camac25/
LOCATION:Coast Mountain College – Terrace Campus
CATEGORIES:Articulation Committees
END:VEVENT
BEGIN:VEVENT
DTSTART;VALUE=DATE:20250508
DTEND;VALUE=DATE:20250509
DTSTAMP:20260425T041431
CREATED:20250306T221735Z
LAST-MODIFIED:20250306T221735Z
UID:10000241-1746662400-1746748799@www.bccat.ca
SUMMARY:ABT/OA
DESCRIPTION:
URL:https://www.bccat.ca/articulation-calendar/abt-oa-2/
LOCATION:Okanagan College – Kelowna Campus
CATEGORIES:Articulation Committees
END:VEVENT
END:VCALENDAR