BEGIN:VCALENDAR
VERSION:2.0
PRODID:-//BCCAT - ECPv6.15.19//NONSGML v1.0//EN
CALSCALE:GREGORIAN
METHOD:PUBLISH
X-ORIGINAL-URL:https://www.bccat.ca
X-WR-CALDESC:Events for BCCAT
REFRESH-INTERVAL;VALUE=DURATION:PT1H
X-Robots-Tag:noindex
X-PUBLISHED-TTL:PT1H
BEGIN:VTIMEZONE
TZID:America/Vancouver
BEGIN:DAYLIGHT
TZOFFSETFROM:-0800
TZOFFSETTO:-0700
TZNAME:PDT
DTSTART:20250309T100000
END:DAYLIGHT
BEGIN:STANDARD
TZOFFSETFROM:-0700
TZOFFSETTO:-0800
TZNAME:PST
DTSTART:20251102T090000
END:STANDARD
BEGIN:DAYLIGHT
TZOFFSETFROM:-0800
TZOFFSETTO:-0700
TZNAME:PDT
DTSTART:20260308T100000
END:DAYLIGHT
BEGIN:STANDARD
TZOFFSETFROM:-0700
TZOFFSETTO:-0800
TZNAME:PST
DTSTART:20261101T090000
END:STANDARD
BEGIN:DAYLIGHT
TZOFFSETFROM:-0800
TZOFFSETTO:-0700
TZNAME:PDT
DTSTART:20270314T100000
END:DAYLIGHT
BEGIN:STANDARD
TZOFFSETFROM:-0700
TZOFFSETTO:-0800
TZNAME:PST
DTSTART:20271107T090000
END:STANDARD
END:VTIMEZONE
BEGIN:VEVENT
DTSTART;VALUE=DATE:20260123
DTEND;VALUE=DATE:20260124
DTSTAMP:20260425T083818
CREATED:20250226T230143Z
LAST-MODIFIED:20250226T230143Z
UID:10000236-1769126400-1769212799@www.bccat.ca
SUMMARY:Admissions Committee
DESCRIPTION:
URL:https://www.bccat.ca/articulation-calendar/admissions-committee-5/
LOCATION:BCIT-Downtown Campus (BCCAT Boardroom 711)
CATEGORIES:Admissions
END:VEVENT
BEGIN:VEVENT
DTSTART;VALUE=DATE:20260130
DTEND;VALUE=DATE:20260131
DTSTAMP:20260425T083818
CREATED:20230620T185739Z
LAST-MODIFIED:20250916T214152Z
UID:10000125-1769731200-1769817599@www.bccat.ca
SUMMARY:TAC
DESCRIPTION:
URL:https://www.bccat.ca/articulation-calendar/tac202501/
LOCATION:BCIT-Downtown Campus (BCCAT Boardroom 711)
CATEGORIES:TAC
END:VEVENT
BEGIN:VEVENT
DTSTART;VALUE=DATE:20260206
DTEND;VALUE=DATE:20260207
DTSTAMP:20260425T083818
CREATED:20250226T224656Z
LAST-MODIFIED:20250226T225839Z
UID:10000235-1770336000-1770422399@www.bccat.ca
SUMMARY:Research Committee
DESCRIPTION:
URL:https://www.bccat.ca/articulation-calendar/research-committee-5/
LOCATION:BCIT-Downtown Campus (BCCAT Boardroom 711)
CATEGORIES:Research
END:VEVENT
BEGIN:VEVENT
DTSTART;VALUE=DATE:20260305
DTEND;VALUE=DATE:20260307
DTSTAMP:20260425T083818
CREATED:20250216T193140Z
LAST-MODIFIED:20250813T173905Z
UID:10000091-1772668800-1772841599@www.bccat.ca
SUMMARY:ABE Computer Studies
DESCRIPTION:
URL:https://www.bccat.ca/articulation-calendar/abe-computer-studies/
LOCATION:VCC – Vancouver Downtown Campus
CATEGORIES:Articulation Committees
END:VEVENT
BEGIN:VEVENT
DTSTART;VALUE=DATE:20260305
DTEND;VALUE=DATE:20260307
DTSTAMP:20260425T083818
CREATED:20250216T193223Z
LAST-MODIFIED:20250813T174638Z
UID:10000092-1772668800-1772841599@www.bccat.ca
SUMMARY:ABE English
DESCRIPTION:
URL:https://www.bccat.ca/articulation-calendar/abe-english/
LOCATION:VCC – Vancouver Downtown Campus
CATEGORIES:Articulation Committees
END:VEVENT
BEGIN:VEVENT
DTSTART;VALUE=DATE:20260305
DTEND;VALUE=DATE:20260307
DTSTAMP:20260425T083818
CREATED:20250406T030229Z
LAST-MODIFIED:20250813T175136Z
UID:10000085-1772668800-1772841599@www.bccat.ca
SUMMARY:ABE Math
DESCRIPTION:
URL:https://www.bccat.ca/articulation-calendar/abe-math-2/
LOCATION:VCC – Vancouver Downtown Campus
CATEGORIES:Articulation Committees
END:VEVENT
BEGIN:VEVENT
DTSTART;VALUE=DATE:20260305
DTEND;VALUE=DATE:20260307
DTSTAMP:20260425T083818
CREATED:20250813T174524Z
LAST-MODIFIED:20250813T174524Z
UID:10000260-1772668800-1772841599@www.bccat.ca
SUMMARY:ABE Education & Career Planning
DESCRIPTION:
URL:https://www.bccat.ca/articulation-calendar/abe-education-career-planning-2/
LOCATION:VCC – Vancouver Downtown Campus
CATEGORIES:Articulation Committees
END:VEVENT
BEGIN:VEVENT
DTSTART;VALUE=DATE:20260305
DTEND;VALUE=DATE:20260307
DTSTAMP:20260425T083818
CREATED:20250813T174914Z
LAST-MODIFIED:20250813T174914Z
UID:10000261-1772668800-1772841599@www.bccat.ca
SUMMARY:ABE First Peoples
DESCRIPTION:
URL:https://www.bccat.ca/articulation-calendar/abe-first-peoples-2/
LOCATION:VCC – Vancouver Downtown Campus
CATEGORIES:Articulation Committees
END:VEVENT
BEGIN:VEVENT
DTSTART;VALUE=DATE:20260316
DTEND;VALUE=DATE:20260317
DTSTAMP:20260425T083818
CREATED:20250205T230448Z
LAST-MODIFIED:20250205T230448Z
UID:10000230-1773619200-1773705599@www.bccat.ca
SUMMARY:Council
DESCRIPTION:
URL:https://www.bccat.ca/articulation-calendar/council-12/
LOCATION:BCIT – Downtown Campus
CATEGORIES:Council
END:VEVENT
BEGIN:VEVENT
DTSTART;VALUE=DATE:20260409
DTEND;VALUE=DATE:20260411
DTSTAMP:20260425T083818
CREATED:20250411T185108Z
LAST-MODIFIED:20250411T185108Z
UID:10000252-1775692800-1775865599@www.bccat.ca
SUMMARY:Dental Assistant
DESCRIPTION:
URL:https://www.bccat.ca/articulation-calendar/dental-assistant/
LOCATION:BCIT-Downtown Campus (BCCAT Boardroom 711)
CATEGORIES:Articulation Committees
END:VEVENT
BEGIN:VEVENT
DTSTART;VALUE=DATE:20260424
DTEND;VALUE=DATE:20260425
DTSTAMP:20260425T083818
CREATED:20230322T154018Z
LAST-MODIFIED:20260220T201255Z
UID:10000107-1776988800-1777075199@www.bccat.ca
SUMMARY:Creative Writing
DESCRIPTION:
URL:https://www.bccat.ca/articulation-calendar/creative-writing/
LOCATION:Capilano University
CATEGORIES:Articulation Committees
END:VEVENT
BEGIN:VEVENT
DTSTART;VALUE=DATE:20260427
DTEND;VALUE=DATE:20260429
DTSTAMP:20260425T083818
CREATED:20230307T184702Z
LAST-MODIFIED:20260311T170112Z
UID:10000105-1777248000-1777420799@www.bccat.ca
SUMMARY:Economics
DESCRIPTION:
URL:https://www.bccat.ca/articulation-calendar/economics/
LOCATION:Acsenda School of Management – Vancouver Campus
CATEGORIES:Articulation Committees
END:VEVENT
BEGIN:VEVENT
DTSTART;VALUE=DATE:20260429
DTEND;VALUE=DATE:20260430
DTSTAMP:20260425T083818
CREATED:20240226T191008Z
LAST-MODIFIED:20260324T183612Z
UID:10000176-1777420800-1777507199@www.bccat.ca
SUMMARY:Computing Education
DESCRIPTION:
URL:https://www.bccat.ca/articulation-calendar/computing-education-2024/
LOCATION:Coquitlam College
CATEGORIES:Articulation Committees
END:VEVENT
BEGIN:VEVENT
DTSTART;VALUE=DATE:20260430
DTEND;VALUE=DATE:20260501
DTSTAMP:20260425T083818
CREATED:20230216T221630Z
LAST-MODIFIED:20260224T225308Z
UID:10000100-1777507200-1777593599@www.bccat.ca
SUMMARY:Engineering
DESCRIPTION:
URL:https://www.bccat.ca/articulation-calendar/engineering/
LOCATION:UBC – Okanagan Campus
CATEGORIES:Articulation Committees
END:VEVENT
BEGIN:VEVENT
DTSTART;VALUE=DATE:20260430
DTEND;VALUE=DATE:20260502
DTSTAMP:20260425T083818
CREATED:20220602T045355Z
LAST-MODIFIED:20260123T200101Z
UID:10000072-1777507200-1777679999@www.bccat.ca
SUMMARY:Dental Hygiene
DESCRIPTION:
URL:https://www.bccat.ca/articulation-calendar/mtg-2026/
LOCATION:BCIT-Downtown Campus (BCCAT Boardroom 711)
END:VEVENT
BEGIN:VEVENT
DTSTART;VALUE=DATE:20260430
DTEND;VALUE=DATE:20260502
DTSTAMP:20260425T083818
CREATED:20230216T190300Z
LAST-MODIFIED:20260202T212019Z
UID:10000090-1777507200-1777679999@www.bccat.ca
SUMMARY:Psychology
DESCRIPTION:
URL:https://www.bccat.ca/articulation-calendar/psychology/
LOCATION:College of the Rockies – Cranbrook Campus
CATEGORIES:Articulation Committees
END:VEVENT
BEGIN:VEVENT
DTSTART;VALUE=DATE:20260430
DTEND;VALUE=DATE:20260502
DTSTAMP:20260425T083818
CREATED:20230216T195009Z
LAST-MODIFIED:20260312T170415Z
UID:10000095-1777507200-1777679999@www.bccat.ca
SUMMARY:Geography
DESCRIPTION:
URL:https://www.bccat.ca/articulation-calendar/geography/
LOCATION:Coast Mountain College – Terrace Campus
CATEGORIES:Articulation Committees
END:VEVENT
BEGIN:VEVENT
DTSTART;VALUE=DATE:20260430
DTEND;VALUE=DATE:20260502
DTSTAMP:20260425T083818
CREATED:20250216T215802Z
LAST-MODIFIED:20250812T171705Z
UID:10000098-1777507200-1777679999@www.bccat.ca
SUMMARY:Biology
DESCRIPTION:
URL:https://www.bccat.ca/articulation-calendar/biology/
LOCATION:UFV – Abbotsford Campus
CATEGORIES:Articulation Committees
END:VEVENT
BEGIN:VEVENT
DTSTART;VALUE=DATE:20260501
DTEND;VALUE=DATE:20260502
DTSTAMP:20260425T083818
CREATED:20250813T221402Z
LAST-MODIFIED:20250813T221402Z
UID:10000264-1777593600-1777679999@www.bccat.ca
SUMMARY:Physics & Astronomy
DESCRIPTION:
URL:https://www.bccat.ca/articulation-calendar/physics-astronomy-3/
LOCATION:Okanagan College – Kelowna Campus
CATEGORIES:Articulation Committees
END:VEVENT
BEGIN:VEVENT
DTSTART;VALUE=DATE:20260501
DTEND;VALUE=DATE:20260502
DTSTAMP:20260425T083818
CREATED:20260209T170128Z
LAST-MODIFIED:20260209T170128Z
UID:10000267-1777593600-1777679999@www.bccat.ca
SUMMARY:English
DESCRIPTION:
URL:https://www.bccat.ca/articulation-calendar/english-2/
LOCATION:Yukon University – Whitehorse\, 500 College Drive\, Whitehorse\, Yukon\, Y1A 5K4\, Canada
CATEGORIES:Articulation Committees
END:VEVENT
BEGIN:VEVENT
DTSTART;VALUE=DATE:20260504
DTEND;VALUE=DATE:20260505
DTSTAMP:20260425T083818
CREATED:20250216T220331Z
LAST-MODIFIED:20260217T192203Z
UID:10000099-1777852800-1777939199@www.bccat.ca
SUMMARY:History
DESCRIPTION:
URL:https://www.bccat.ca/articulation-calendar/history/
LOCATION:SFU – Vancouver Campus
CATEGORIES:Articulation Committees
END:VEVENT
BEGIN:VEVENT
DTSTART;VALUE=DATE:20260504
DTEND;VALUE=DATE:20260506
DTSTAMP:20260425T083818
CREATED:20260415T171133Z
LAST-MODIFIED:20260415T171143Z
UID:10000270-1777852800-1778025599@www.bccat.ca
SUMMARY:Physical Education & Kinesiology
DESCRIPTION:
URL:https://www.bccat.ca/articulation-calendar/physical-education-kinesiology-2/
LOCATION:Trinity Western University
CATEGORIES:Articulation Committees
END:VEVENT
BEGIN:VEVENT
DTSTART;VALUE=DATE:20260506
DTEND;VALUE=DATE:20260507
DTSTAMP:20260425T083818
CREATED:20250813T220104Z
LAST-MODIFIED:20250813T220104Z
UID:10000263-1778025600-1778111999@www.bccat.ca
SUMMARY:Music
DESCRIPTION:
URL:https://www.bccat.ca/articulation-calendar/music-3/
LOCATION:SFU – Burnaby Campus
CATEGORIES:Articulation Committees
END:VEVENT
BEGIN:VEVENT
DTSTART;VALUE=DATE:20260506
DTEND;VALUE=DATE:20260508
DTSTAMP:20260425T083818
CREATED:20250522T190804Z
LAST-MODIFIED:20250813T182100Z
UID:10000157-1778025600-1778198399@www.bccat.ca
SUMMARY:Criminology
DESCRIPTION:
URL:https://www.bccat.ca/articulation-calendar/criminology/
LOCATION:TBD
END:VEVENT
BEGIN:VEVENT
DTSTART;VALUE=DATE:20260507
DTEND;VALUE=DATE:20260508
DTSTAMP:20260425T083818
CREATED:20230216T194213Z
LAST-MODIFIED:20260127T204440Z
UID:10000093-1778112000-1778198399@www.bccat.ca
SUMMARY:ABT/OA
DESCRIPTION:
URL:https://www.bccat.ca/articulation-calendar/abt-oa/
LOCATION:Okanagan College – Penticton Campus\, 583 Duncan Ave. West\, Penticton\, BC\, V2A 8E1\, Canada
CATEGORIES:Articulation Committees
END:VEVENT
BEGIN:VEVENT
DTSTART;VALUE=DATE:20260507
DTEND;VALUE=DATE:20260509
DTSTAMP:20260425T083818
CREATED:20220514T021358Z
LAST-MODIFIED:20260127T230537Z
UID:10000068-1778112000-1778284799@www.bccat.ca
SUMMARY:CAMAC
DESCRIPTION:
URL:https://www.bccat.ca/articulation-calendar/2026-2/
LOCATION:UFV – Abbotsford Campus
CATEGORIES:Articulation Committees
END:VEVENT
BEGIN:VEVENT
DTSTART;VALUE=DATE:20260507
DTEND;VALUE=DATE:20260509
DTSTAMP:20260425T083818
CREATED:20230216T185343Z
LAST-MODIFIED:20260217T212010Z
UID:10000089-1778112000-1778284799@www.bccat.ca
SUMMARY:Hairstylist
DESCRIPTION:
URL:https://www.bccat.ca/articulation-calendar/hairstylist/
LOCATION:VIU – Nanaimo Campus
CATEGORIES:Articulation Committees
END:VEVENT
BEGIN:VEVENT
DTSTART;VALUE=DATE:20260507
DTEND;VALUE=DATE:20260509
DTSTAMP:20260425T083818
CREATED:20230303T215606Z
LAST-MODIFIED:20260225T172423Z
UID:10000104-1778112000-1778284799@www.bccat.ca
SUMMARY:Visual Arts & Design
DESCRIPTION:
URL:https://www.bccat.ca/articulation-calendar/visual-arts-design/
LOCATION:Langara College
CATEGORIES:Articulation Committees
END:VEVENT
BEGIN:VEVENT
DTSTART;VALUE=DATE:20260507
DTEND;VALUE=DATE:20260509
DTSTAMP:20260425T083818
CREATED:20250529T185605Z
LAST-MODIFIED:20250529T190011Z
UID:10000259-1778112000-1778284799@www.bccat.ca
SUMMARY:Environmental Programs
DESCRIPTION:
URL:https://www.bccat.ca/articulation-calendar/environmental-programs/
LOCATION:UBC – Vancouver Campus
CATEGORIES:Articulation Committees
END:VEVENT
BEGIN:VEVENT
DTSTART;VALUE=DATE:20260507
DTEND;VALUE=DATE:20260509
DTSTAMP:20260425T083818
CREATED:20250630T043206Z
LAST-MODIFIED:20250813T175317Z
UID:10000074-1778112000-1778284799@www.bccat.ca
SUMMARY:ABE Steering
DESCRIPTION:
URL:https://www.bccat.ca/articulation-calendar/abe-steering-3/
LOCATION:Camosun College – Landsdown Campus
END:VEVENT
END:VCALENDAR