BEGIN:VCALENDAR
VERSION:2.0
PRODID:-//BCCAT - ECPv6.15.19//NONSGML v1.0//EN
CALSCALE:GREGORIAN
METHOD:PUBLISH
X-ORIGINAL-URL:https://www.bccat.ca
X-WR-CALDESC:Events for BCCAT
REFRESH-INTERVAL;VALUE=DURATION:PT1H
X-Robots-Tag:noindex
X-PUBLISHED-TTL:PT1H
BEGIN:VTIMEZONE
TZID:America/Vancouver
BEGIN:DAYLIGHT
TZOFFSETFROM:-0800
TZOFFSETTO:-0700
TZNAME:PDT
DTSTART:20250309T100000
END:DAYLIGHT
BEGIN:STANDARD
TZOFFSETFROM:-0700
TZOFFSETTO:-0800
TZNAME:PST
DTSTART:20251102T090000
END:STANDARD
BEGIN:DAYLIGHT
TZOFFSETFROM:-0800
TZOFFSETTO:-0700
TZNAME:PDT
DTSTART:20260308T100000
END:DAYLIGHT
BEGIN:STANDARD
TZOFFSETFROM:-0700
TZOFFSETTO:-0800
TZNAME:PST
DTSTART:20261101T090000
END:STANDARD
BEGIN:DAYLIGHT
TZOFFSETFROM:-0800
TZOFFSETTO:-0700
TZNAME:PDT
DTSTART:20270314T100000
END:DAYLIGHT
BEGIN:STANDARD
TZOFFSETFROM:-0700
TZOFFSETTO:-0800
TZNAME:PST
DTSTART:20271107T090000
END:STANDARD
END:VTIMEZONE
BEGIN:VEVENT
DTSTART;VALUE=DATE:20260504
DTEND;VALUE=DATE:20260505
DTSTAMP:20260425T043723
CREATED:20250216T220331Z
LAST-MODIFIED:20260217T192203Z
UID:10000099-1777852800-1777939199@www.bccat.ca
SUMMARY:History
DESCRIPTION:
URL:https://www.bccat.ca/articulation-calendar/history/
LOCATION:SFU – Vancouver Campus
CATEGORIES:Articulation Committees
END:VEVENT
BEGIN:VEVENT
DTSTART;VALUE=DATE:20260504
DTEND;VALUE=DATE:20260506
DTSTAMP:20260425T043723
CREATED:20260415T171133Z
LAST-MODIFIED:20260415T171143Z
UID:10000270-1777852800-1778025599@www.bccat.ca
SUMMARY:Physical Education & Kinesiology
DESCRIPTION:
URL:https://www.bccat.ca/articulation-calendar/physical-education-kinesiology-2/
LOCATION:Trinity Western University
CATEGORIES:Articulation Committees
END:VEVENT
BEGIN:VEVENT
DTSTART;VALUE=DATE:20260506
DTEND;VALUE=DATE:20260507
DTSTAMP:20260425T043723
CREATED:20250813T220104Z
LAST-MODIFIED:20250813T220104Z
UID:10000263-1778025600-1778111999@www.bccat.ca
SUMMARY:Music
DESCRIPTION:
URL:https://www.bccat.ca/articulation-calendar/music-3/
LOCATION:SFU – Burnaby Campus
CATEGORIES:Articulation Committees
END:VEVENT
BEGIN:VEVENT
DTSTART;VALUE=DATE:20260506
DTEND;VALUE=DATE:20260508
DTSTAMP:20260425T043723
CREATED:20250522T190804Z
LAST-MODIFIED:20250813T182100Z
UID:10000157-1778025600-1778198399@www.bccat.ca
SUMMARY:Criminology
DESCRIPTION:
URL:https://www.bccat.ca/articulation-calendar/criminology/
LOCATION:TBD
END:VEVENT
BEGIN:VEVENT
DTSTART;VALUE=DATE:20260507
DTEND;VALUE=DATE:20260508
DTSTAMP:20260425T043723
CREATED:20230216T194213Z
LAST-MODIFIED:20260127T204440Z
UID:10000093-1778112000-1778198399@www.bccat.ca
SUMMARY:ABT/OA
DESCRIPTION:
URL:https://www.bccat.ca/articulation-calendar/abt-oa/
LOCATION:Okanagan College – Penticton Campus\, 583 Duncan Ave. West\, Penticton\, BC\, V2A 8E1\, Canada
CATEGORIES:Articulation Committees
END:VEVENT
BEGIN:VEVENT
DTSTART;VALUE=DATE:20260507
DTEND;VALUE=DATE:20260509
DTSTAMP:20260425T043723
CREATED:20220514T021358Z
LAST-MODIFIED:20260127T230537Z
UID:10000068-1778112000-1778284799@www.bccat.ca
SUMMARY:CAMAC
DESCRIPTION:
URL:https://www.bccat.ca/articulation-calendar/2026-2/
LOCATION:UFV – Abbotsford Campus
CATEGORIES:Articulation Committees
END:VEVENT
BEGIN:VEVENT
DTSTART;VALUE=DATE:20260507
DTEND;VALUE=DATE:20260509
DTSTAMP:20260425T043723
CREATED:20230216T185343Z
LAST-MODIFIED:20260217T212010Z
UID:10000089-1778112000-1778284799@www.bccat.ca
SUMMARY:Hairstylist
DESCRIPTION:
URL:https://www.bccat.ca/articulation-calendar/hairstylist/
LOCATION:VIU – Nanaimo Campus
CATEGORIES:Articulation Committees
END:VEVENT
BEGIN:VEVENT
DTSTART;VALUE=DATE:20260507
DTEND;VALUE=DATE:20260509
DTSTAMP:20260425T043723
CREATED:20230303T215606Z
LAST-MODIFIED:20260225T172423Z
UID:10000104-1778112000-1778284799@www.bccat.ca
SUMMARY:Visual Arts & Design
DESCRIPTION:
URL:https://www.bccat.ca/articulation-calendar/visual-arts-design/
LOCATION:Langara College
CATEGORIES:Articulation Committees
END:VEVENT
BEGIN:VEVENT
DTSTART;VALUE=DATE:20260507
DTEND;VALUE=DATE:20260509
DTSTAMP:20260425T043723
CREATED:20250529T185605Z
LAST-MODIFIED:20250529T190011Z
UID:10000259-1778112000-1778284799@www.bccat.ca
SUMMARY:Environmental Programs
DESCRIPTION:
URL:https://www.bccat.ca/articulation-calendar/environmental-programs/
LOCATION:UBC – Vancouver Campus
CATEGORIES:Articulation Committees
END:VEVENT
BEGIN:VEVENT
DTSTART;VALUE=DATE:20260507
DTEND;VALUE=DATE:20260509
DTSTAMP:20260425T043723
CREATED:20250630T043206Z
LAST-MODIFIED:20250813T175317Z
UID:10000074-1778112000-1778284799@www.bccat.ca
SUMMARY:ABE Steering
DESCRIPTION:
URL:https://www.bccat.ca/articulation-calendar/abe-steering-3/
LOCATION:Camosun College – Landsdown Campus
END:VEVENT
BEGIN:VEVENT
DTSTART;VALUE=DATE:20260508
DTEND;VALUE=DATE:20260509
DTSTAMP:20260425T043723
CREATED:20220912T225139Z
LAST-MODIFIED:20260224T231550Z
UID:10000073-1778198400-1778284799@www.bccat.ca
SUMMARY:Sociology
DESCRIPTION:
URL:https://www.bccat.ca/articulation-calendar/mtg-2022-12-08/
LOCATION:Yukon University – Whitehorse\, 500 College Drive\, Whitehorse\, Yukon\, Y1A 5K4\, Canada
CATEGORIES:Articulation Committees
END:VEVENT
BEGIN:VEVENT
DTSTART;VALUE=DATE:20260508
DTEND;VALUE=DATE:20260509
DTSTAMP:20260425T043723
CREATED:20221102T043017Z
LAST-MODIFIED:20260410T172257Z
UID:10000081-1778198400-1778284799@www.bccat.ca
SUMMARY:Chemistry
DESCRIPTION:
URL:https://www.bccat.ca/articulation-calendar/mtg-2023-05-04/
LOCATION:BCIT – Burnaby Campus\, 3700 Willingdon Ave\, Burnaby\, BC - British Columbia\, V5G 3H2\, Canada
CATEGORIES:Articulation Committees
END:VEVENT
BEGIN:VEVENT
DTSTART;VALUE=DATE:20260508
DTEND;VALUE=DATE:20260509
DTSTAMP:20260425T043723
CREATED:20221125T034611Z
LAST-MODIFIED:20260127T202924Z
UID:10000084-1778198400-1778284799@www.bccat.ca
SUMMARY:Political Science
DESCRIPTION:
URL:https://www.bccat.ca/articulation-calendar/2026/
LOCATION:TRU – Kamloops Campus
CATEGORIES:Articulation Committees
END:VEVENT
BEGIN:VEVENT
DTSTART;VALUE=DATE:20260508
DTEND;VALUE=DATE:20260509
DTSTAMP:20260425T043723
CREATED:20230216T221750Z
LAST-MODIFIED:20260305T172114Z
UID:10000101-1778198400-1778284799@www.bccat.ca
SUMMARY:SCOLA
DESCRIPTION:
URL:https://www.bccat.ca/articulation-calendar/scola/
LOCATION:Langara College
CATEGORIES:Articulation Committees
END:VEVENT
BEGIN:VEVENT
DTSTART;VALUE=DATE:20260511
DTEND;VALUE=DATE:20260512
DTSTAMP:20260425T043723
CREATED:20240226T185216Z
LAST-MODIFIED:20251205T182037Z
UID:10000174-1778457600-1778543999@www.bccat.ca
SUMMARY:GSWS
DESCRIPTION:
URL:https://www.bccat.ca/articulation-calendar/gsws/
LOCATION:University of Victoria
END:VEVENT
BEGIN:VEVENT
DTSTART;VALUE=DATE:20260512
DTEND;VALUE=DATE:20260514
DTSTAMP:20260425T043723
CREATED:20230303T174119Z
LAST-MODIFIED:20260217T211638Z
UID:10000103-1778544000-1778716799@www.bccat.ca
SUMMARY:Mathematics
DESCRIPTION:
URL:https://www.bccat.ca/articulation-calendar/mathematics/
LOCATION:Langara College
CATEGORIES:Articulation Committees
END:VEVENT
BEGIN:VEVENT
DTSTART;VALUE=DATE:20260515
DTEND;VALUE=DATE:20260516
DTSTAMP:20260425T043723
CREATED:20231207T184015Z
LAST-MODIFIED:20260401T211541Z
UID:10000152-1778803200-1778889599@www.bccat.ca
SUMMARY:Anthropology
DESCRIPTION:
URL:https://www.bccat.ca/articulation-calendar/anthropology/
LOCATION:TRU – Kamloops Campus
CATEGORIES:Articulation Committees
END:VEVENT
BEGIN:VEVENT
DTSTART;VALUE=DATE:20260520
DTEND;VALUE=DATE:20260522
DTSTAMP:20260425T043723
CREATED:20260121T232259Z
LAST-MODIFIED:20260210T183824Z
UID:10000266-1779235200-1779407999@www.bccat.ca
SUMMARY:AET
DESCRIPTION:
URL:https://www.bccat.ca/articulation-calendar/aet-2/
LOCATION:Okanagan College – Kelowna Campus
CATEGORIES:Articulation Committees
END:VEVENT
BEGIN:VEVENT
DTSTART;VALUE=DATE:20260521
DTEND;VALUE=DATE:20260523
DTSTAMP:20260425T043723
CREATED:20220712T000045Z
LAST-MODIFIED:20260318T182609Z
UID:10000071-1779321600-1779494399@www.bccat.ca
SUMMARY:Tourism Management
DESCRIPTION:
URL:https://www.bccat.ca/articulation-calendar/tourism-management-2026/
LOCATION:TRU – Kamloops Campus
CATEGORIES:Articulation Committees
END:VEVENT
BEGIN:VEVENT
DTSTART;VALUE=DATE:20260521
DTEND;VALUE=DATE:20260523
DTSTAMP:20260425T043723
CREATED:20220712T000121Z
LAST-MODIFIED:20260318T182508Z
UID:10000070-1779321600-1779494399@www.bccat.ca
SUMMARY:Hospitality Management
DESCRIPTION:
URL:https://www.bccat.ca/articulation-calendar/hospitality-2026/
LOCATION:TRU – Kamloops Campus
CATEGORIES:Articulation Committees
END:VEVENT
BEGIN:VEVENT
DTSTART;VALUE=DATE:20260521
DTEND;VALUE=DATE:20260523
DTSTAMP:20260425T043723
CREATED:20230309T212143Z
LAST-MODIFIED:20260415T170126Z
UID:10000106-1779321600-1779494399@www.bccat.ca
SUMMARY:Business Educators
DESCRIPTION:
URL:https://www.bccat.ca/articulation-calendar/business-educators/
LOCATION:Okanagan College – Kelowna Campus
CATEGORIES:Articulation Committees
END:VEVENT
BEGIN:VEVENT
DTSTART;VALUE=DATE:20260521
DTEND;VALUE=DATE:20260523
DTSTAMP:20260425T043723
CREATED:20250425T040155Z
LAST-MODIFIED:20260302T210538Z
UID:10000080-1779321600-1779494399@www.bccat.ca
SUMMARY:EAL
DESCRIPTION:
URL:https://www.bccat.ca/articulation-calendar/eal-3/
LOCATION:Capilano University
CATEGORIES:Articulation Committees
END:VEVENT
BEGIN:VEVENT
DTSTART;VALUE=DATE:20260521
DTEND;VALUE=DATE:20260523
DTSTAMP:20260425T043723
CREATED:20260302T210315Z
LAST-MODIFIED:20260302T210315Z
UID:10000268-1779321600-1779494399@www.bccat.ca
SUMMARY:Professional Cook Training
DESCRIPTION:
URL:https://www.bccat.ca/articulation-calendar/professional-cook-training/
LOCATION:TRU – Kamloops Campus
CATEGORIES:Articulation Committees
END:VEVENT
BEGIN:VEVENT
DTSTART;VALUE=DATE:20260522
DTEND;VALUE=DATE:20260523
DTSTAMP:20260425T043723
CREATED:20230206T175328Z
LAST-MODIFIED:20250916T214301Z
UID:10000088-1779408000-1779494399@www.bccat.ca
SUMMARY:TAC
DESCRIPTION:
URL:https://www.bccat.ca/articulation-calendar/tac202605/
LOCATION:BCIT-Downtown Campus (BCCAT Boardroom 711)
CATEGORIES:TAC
END:VEVENT
BEGIN:VEVENT
DTSTART;VALUE=DATE:20260525
DTEND;VALUE=DATE:20260526
DTSTAMP:20260425T043723
CREATED:20250813T185805Z
LAST-MODIFIED:20250813T185805Z
UID:10000262-1779667200-1779753599@www.bccat.ca
SUMMARY:Agriculture / Horticulture
DESCRIPTION:
URL:https://www.bccat.ca/articulation-calendar/agriculture-horticulture-2/
LOCATION:TBD
CATEGORIES:Articulation Committees
END:VEVENT
BEGIN:VEVENT
DTSTART;VALUE=DATE:20260525
DTEND;VALUE=DATE:20260527
DTSTAMP:20260425T043723
CREATED:20250518T201849Z
LAST-MODIFIED:20260127T204032Z
UID:10000117-1779667200-1779839999@www.bccat.ca
SUMMARY:Human Service Programs
DESCRIPTION:
URL:https://www.bccat.ca/articulation-calendar/hsp/
LOCATION:TRU – Kamloops Campus
CATEGORIES:Articulation Committees
END:VEVENT
BEGIN:VEVENT
DTSTART;VALUE=DATE:20260529
DTEND;VALUE=DATE:20260530
DTSTAMP:20260425T043723
CREATED:20260311T171350Z
LAST-MODIFIED:20260311T171350Z
UID:10000269-1780012800-1780099199@www.bccat.ca
SUMMARY:Philosophy
DESCRIPTION:
URL:https://www.bccat.ca/articulation-calendar/philosophy-3/
LOCATION:Douglas College – New Westminster Campus
END:VEVENT
BEGIN:VEVENT
DTSTART;VALUE=DATE:20260603
DTEND;VALUE=DATE:20260605
DTSTAMP:20260425T043723
CREATED:20230216T195452Z
LAST-MODIFIED:20260311T204202Z
UID:10000096-1780444800-1780617599@www.bccat.ca
SUMMARY:Forestry & SRM
DESCRIPTION:
URL:https://www.bccat.ca/articulation-calendar/forestry/
LOCATION:College of New Caledonia – Prince George Campus
CATEGORIES:Articulation Committees
END:VEVENT
BEGIN:VEVENT
DTSTART;VALUE=DATE:20260608
DTEND;VALUE=DATE:20260609
DTSTAMP:20260425T043723
CREATED:20230505T173740Z
LAST-MODIFIED:20260123T221731Z
UID:10000113-1780876800-1780963199@www.bccat.ca
SUMMARY:Council
DESCRIPTION:
URL:https://www.bccat.ca/articulation-calendar/council-2/
LOCATION:BCIT – Downtown Campus
CATEGORIES:Council
END:VEVENT
BEGIN:VEVENT
DTSTART;VALUE=DATE:20260925
DTEND;VALUE=DATE:20260926
DTSTAMP:20260425T043723
CREATED:20230505T173231Z
LAST-MODIFIED:20250916T214517Z
UID:10000108-1790294400-1790380799@www.bccat.ca
SUMMARY:Admissions Committee
DESCRIPTION:
URL:https://www.bccat.ca/articulation-calendar/admissions-committee/
LOCATION:BCIT-Downtown Campus (BCCAT Boardroom 711)
CATEGORIES:Admissions
END:VEVENT
END:VCALENDAR