BEGIN:VCALENDAR
VERSION:2.0
PRODID:-//BCCAT - ECPv6.15.19//NONSGML v1.0//EN
CALSCALE:GREGORIAN
METHOD:PUBLISH
X-WR-CALNAME:BCCAT
X-ORIGINAL-URL:https://www.bccat.ca
X-WR-CALDESC:Events for BCCAT
REFRESH-INTERVAL;VALUE=DURATION:PT1H
X-Robots-Tag:noindex
X-PUBLISHED-TTL:PT1H
BEGIN:VTIMEZONE
TZID:America/Vancouver
BEGIN:DAYLIGHT
TZOFFSETFROM:-0800
TZOFFSETTO:-0700
TZNAME:PDT
DTSTART:20210314T100000
END:DAYLIGHT
BEGIN:STANDARD
TZOFFSETFROM:-0700
TZOFFSETTO:-0800
TZNAME:PST
DTSTART:20211107T090000
END:STANDARD
BEGIN:DAYLIGHT
TZOFFSETFROM:-0800
TZOFFSETTO:-0700
TZNAME:PDT
DTSTART:20220313T100000
END:DAYLIGHT
BEGIN:STANDARD
TZOFFSETFROM:-0700
TZOFFSETTO:-0800
TZNAME:PST
DTSTART:20221106T090000
END:STANDARD
BEGIN:DAYLIGHT
TZOFFSETFROM:-0800
TZOFFSETTO:-0700
TZNAME:PDT
DTSTART:20230312T100000
END:DAYLIGHT
BEGIN:STANDARD
TZOFFSETFROM:-0700
TZOFFSETTO:-0800
TZNAME:PST
DTSTART:20231105T090000
END:STANDARD
BEGIN:DAYLIGHT
TZOFFSETFROM:-0800
TZOFFSETTO:-0700
TZNAME:PDT
DTSTART:20240310T100000
END:DAYLIGHT
BEGIN:STANDARD
TZOFFSETFROM:-0700
TZOFFSETTO:-0800
TZNAME:PST
DTSTART:20241103T090000
END:STANDARD
BEGIN:DAYLIGHT
TZOFFSETFROM:-0800
TZOFFSETTO:-0700
TZNAME:PDT
DTSTART:20250309T100000
END:DAYLIGHT
BEGIN:STANDARD
TZOFFSETFROM:-0700
TZOFFSETTO:-0800
TZNAME:PST
DTSTART:20251102T090000
END:STANDARD
END:VTIMEZONE
BEGIN:VEVENT
DTSTART;VALUE=DATE:20240307
DTEND;VALUE=DATE:20240309
DTSTAMP:20260425T125703
CREATED:20230731T171808Z
LAST-MODIFIED:20230731T171808Z
UID:10000129-1709769600-1709942399@www.bccat.ca
SUMMARY:ABE English
DESCRIPTION:
URL:https://www.bccat.ca/articulation-calendar/abe-english-2/
LOCATION:Capilano University
CATEGORIES:Articulation Committees
END:VEVENT
BEGIN:VEVENT
DTSTART;VALUE=DATE:20240307
DTEND;VALUE=DATE:20240309
DTSTAMP:20260425T125703
CREATED:20230717T165004Z
LAST-MODIFIED:20230717T165004Z
UID:10000127-1709769600-1709942399@www.bccat.ca
SUMMARY:ABE Math
DESCRIPTION:
URL:https://www.bccat.ca/articulation-calendar/abe-math/
LOCATION:Capilano University
CATEGORIES:Articulation Committees
END:VEVENT
BEGIN:VEVENT
DTSTART;VALUE=DATE:20240307
DTEND;VALUE=DATE:20240309
DTSTAMP:20260425T125703
CREATED:20230612T174511Z
LAST-MODIFIED:20240109T213317Z
UID:10000124-1709769600-1709942399@www.bccat.ca
SUMMARY:ABE Education & Career Planning
DESCRIPTION:
URL:https://www.bccat.ca/articulation-calendar/abe-education-career-planning/
LOCATION:Capilano University
CATEGORIES:Articulation Committees
END:VEVENT
BEGIN:VEVENT
DTSTART;VALUE=DATE:20240307
DTEND;VALUE=DATE:20240309
DTSTAMP:20260425T125703
CREATED:20230612T174330Z
LAST-MODIFIED:20230731T171938Z
UID:10000123-1709769600-1709942399@www.bccat.ca
SUMMARY:ABE Computer Studies
DESCRIPTION:
URL:https://www.bccat.ca/articulation-calendar/abe-computer-studies-2024/
LOCATION:Capilano University
CATEGORIES:Articulation Committees
END:VEVENT
BEGIN:VEVENT
DTSTART;VALUE=DATE:20240209
DTEND;VALUE=DATE:20240210
DTSTAMP:20260425T125703
CREATED:20230505T173525Z
LAST-MODIFIED:20231206T184048Z
UID:10000111-1707436800-1707523199@www.bccat.ca
SUMMARY:Research Committee
DESCRIPTION:
URL:https://www.bccat.ca/articulation-calendar/research-committee-2/
LOCATION:BCIT-Downtown Campus (BCCAT Boardroom 711)
CATEGORIES:Research
END:VEVENT
BEGIN:VEVENT
DTSTART;VALUE=DATE:20240202
DTEND;VALUE=DATE:20240203
DTSTAMP:20260425T125703
CREATED:20230929T193818Z
LAST-MODIFIED:20230929T193818Z
UID:10000135-1706832000-1706918399@www.bccat.ca
SUMMARY:TAC
DESCRIPTION:
URL:https://www.bccat.ca/articulation-calendar/tac-2/
LOCATION:BCIT-Downtown Campus (BCCAT Boardroom 711)
CATEGORIES:TAC
END:VEVENT
BEGIN:VEVENT
DTSTART;VALUE=DATE:20240126
DTEND;VALUE=DATE:20240127
DTSTAMP:20260425T125703
CREATED:20230505T173335Z
LAST-MODIFIED:20231206T183701Z
UID:10000109-1706227200-1706313599@www.bccat.ca
SUMMARY:Admissions Committee
DESCRIPTION:
URL:https://www.bccat.ca/articulation-calendar/admissions-committee-2/
LOCATION:BCIT-Downtown Campus (BCCAT Boardroom 711)
CATEGORIES:Admissions
END:VEVENT
BEGIN:VEVENT
DTSTART;VALUE=DATE:20231208
DTEND;VALUE=DATE:20231209
DTSTAMP:20260425T125703
CREATED:20230623T161304Z
LAST-MODIFIED:20230623T161304Z
UID:10000126-1701993600-1702079999@www.bccat.ca
SUMMARY:Sociology
DESCRIPTION:
URL:https://www.bccat.ca/articulation-calendar/sociology/
LOCATION:Online
CATEGORIES:Articulation Committees
END:VEVENT
BEGIN:VEVENT
DTSTART;VALUE=DATE:20231019
DTEND;VALUE=DATE:20231021
DTSTAMP:20260425T125703
CREATED:20230731T172513Z
LAST-MODIFIED:20230731T172513Z
UID:10000132-1697673600-1697846399@www.bccat.ca
SUMMARY:ABE Fundamental
DESCRIPTION:
URL:https://www.bccat.ca/articulation-calendar/abe-fundamental/
LOCATION:Capilano University
END:VEVENT
BEGIN:VEVENT
DTSTART;VALUE=DATE:20231018
DTEND;VALUE=DATE:20231020
DTSTAMP:20260425T125703
CREATED:20230609T173735Z
LAST-MODIFIED:20230609T173735Z
UID:10000122-1697587200-1697759999@www.bccat.ca
SUMMARY:Practical Nursing
DESCRIPTION:
URL:https://www.bccat.ca/articulation-calendar/practical-nursing/
LOCATION:TBD
CATEGORIES:Articulation Committees
END:VEVENT
BEGIN:VEVENT
DTSTART;VALUE=DATE:20231017
DTEND;VALUE=DATE:20231019
DTSTAMP:20260425T125703
CREATED:20230609T173637Z
LAST-MODIFIED:20230609T173637Z
UID:10000121-1697500800-1697673599@www.bccat.ca
SUMMARY:Health Care Assistant Programs
DESCRIPTION:
URL:https://www.bccat.ca/articulation-calendar/health-care-assistant-programs/
LOCATION:TBD
CATEGORIES:Articulation Committees
END:VEVENT
BEGIN:VEVENT
DTSTART;VALUE=DATE:20230920
DTEND;VALUE=DATE:20230922
DTSTAMP:20260425T125703
CREATED:20230531T164219Z
LAST-MODIFIED:20230531T164219Z
UID:10000119-1695168000-1695340799@www.bccat.ca
SUMMARY:Hairstylist
DESCRIPTION:
URL:https://www.bccat.ca/articulation-calendar/hairstylist-2/
LOCATION:Selkirk College – Nelson Campus
CATEGORIES:Articulation Committees
END:VEVENT
BEGIN:VEVENT
DTSTART;VALUE=DATE:20230620
DTEND;VALUE=DATE:20230622
DTSTAMP:20260425T125703
CREATED:20230223T175239Z
LAST-MODIFIED:20230223T175249Z
UID:10000102-1687219200-1687391999@www.bccat.ca
SUMMARY:Piping Trades
DESCRIPTION:
URL:https://www.bccat.ca/articulation-calendar/piping-trades-2/
LOCATION:North Island College – Comox Campus
END:VEVENT
BEGIN:VEVENT
DTSTART;VALUE=DATE:20230613
DTEND;VALUE=DATE:20230615
DTSTAMP:20260425T125703
CREATED:20230201T193017Z
LAST-MODIFIED:20230531T164029Z
UID:10000087-1686614400-1686787199@www.bccat.ca
SUMMARY:Automotive Service Technician
DESCRIPTION:
URL:https://www.bccat.ca/articulation-calendar/automotive-service-technician/
LOCATION:BCIT – Burnaby Campus\, 3700 Willingdon Ave\, Burnaby\, BC - British Columbia\, V5G 3H2\, Canada
CATEGORIES:Articulation Committees
END:VEVENT
BEGIN:VEVENT
DTSTART;VALUE=DATE:20230601
DTEND;VALUE=DATE:20230602
DTSTAMP:20260425T125704
CREATED:20230531T163859Z
LAST-MODIFIED:20230531T163859Z
UID:10000118-1685577600-1685663999@www.bccat.ca
SUMMARY:Adventure Tourism
DESCRIPTION:
URL:https://www.bccat.ca/articulation-calendar/adventure-tourism/
LOCATION:Online
CATEGORIES:Articulation Committees
END:VEVENT
BEGIN:VEVENT
DTSTART;VALUE=DATE:20230531
DTEND;VALUE=DATE:20230603
DTSTAMP:20260425T125704
CREATED:20230216T194746Z
LAST-MODIFIED:20230216T194746Z
UID:10000094-1685491200-1685750399@www.bccat.ca
SUMMARY:Earth Sciences
DESCRIPTION:
URL:https://www.bccat.ca/articulation-calendar/earth-sciences/
LOCATION:Langara College
CATEGORIES:Articulation Committees
END:VEVENT
BEGIN:VEVENT
DTSTART;VALUE=DATE:20230505
DTEND;VALUE=DATE:20230506
DTSTAMP:20260425T125704
CREATED:20220602T044917Z
LAST-MODIFIED:20230228T180807Z
UID:10000069-1683244800-1683331199@www.bccat.ca
SUMMARY:Physics and Astronomy
DESCRIPTION:Hybrid meeting
URL:https://www.bccat.ca/articulation-calendar/mtg-2023-05-05-3/
LOCATION:Coast Mountain College – Terrace Campus
END:VEVENT
BEGIN:VEVENT
DTSTART;VALUE=DATE:20230504
DTEND;VALUE=DATE:20230506
DTSTAMP:20260425T125704
CREATED:20230216T215412Z
LAST-MODIFIED:20230216T215412Z
UID:10000097-1683158400-1683331199@www.bccat.ca
SUMMARY:Health Educators
DESCRIPTION:
URL:https://www.bccat.ca/articulation-calendar/health-educators/
LOCATION:Selkirk College – Nelson Campus
CATEGORIES:Articulation Committees
END:VEVENT
BEGIN:VEVENT
DTSTART;VALUE=DATE:20230503
DTEND;VALUE=DATE:20230504
DTSTAMP:20260425T125704
CREATED:20221111T011241Z
LAST-MODIFIED:20221209T025520Z
UID:10000083-1683072000-1683158399@www.bccat.ca
SUMMARY:Practical Nursing
DESCRIPTION:
URL:https://www.bccat.ca/articulation-calendar/mtg-2023-05-03-2/
LOCATION:VCC – Vancouver Downtown Campus
END:VEVENT
BEGIN:VEVENT
DTSTART;VALUE=DATE:20230503
DTEND;VALUE=DATE:20230504
DTSTAMP:20260425T125704
CREATED:20221111T011154Z
LAST-MODIFIED:20221209T030740Z
UID:10000082-1683072000-1683158399@www.bccat.ca
SUMMARY:HCA
DESCRIPTION:
URL:https://www.bccat.ca/articulation-calendar/mtg-2023-05-03/
LOCATION:VCC – Vancouver Downtown Campus
END:VEVENT
BEGIN:VEVENT
DTSTART;VALUE=DATE:20230420
DTEND;VALUE=DATE:20230422
DTSTAMP:20260425T125704
CREATED:20220713T001329Z
LAST-MODIFIED:20221209T030753Z
UID:10000076-1681948800-1682121599@www.bccat.ca
SUMMARY:Dental Assisting
DESCRIPTION:
URL:https://www.bccat.ca/articulation-calendar/mtg-2023-04-20/
LOCATION:BCIT-Downtown Campus (BCCAT Boardroom 711)
END:VEVENT
BEGIN:VEVENT
DTSTART;VALUE=DATE:20221020
DTEND;VALUE=DATE:20221022
DTSTAMP:20260425T125704
CREATED:20220924T050056Z
LAST-MODIFIED:20221209T030822Z
UID:10000077-1666224000-1666396799@www.bccat.ca
SUMMARY:ABE Science
DESCRIPTION:
URL:https://www.bccat.ca/articulation-calendar/mtg-2022-10-20-2/
LOCATION:Online
END:VEVENT
BEGIN:VEVENT
DTSTART;VALUE=DATE:20221019
DTEND;VALUE=DATE:20221020
DTSTAMP:20260425T125704
CREATED:20220927T042341Z
LAST-MODIFIED:20221209T030827Z
UID:10000079-1666137600-1666223999@www.bccat.ca
SUMMARY:Health Care Assistant programs
DESCRIPTION:
URL:https://www.bccat.ca/articulation-calendar/mtg-2022-10-19-2/
END:VEVENT
END:VCALENDAR