BEGIN:VCALENDAR
VERSION:2.0
PRODID:-//BCCAT - ECPv6.15.19//NONSGML v1.0//EN
CALSCALE:GREGORIAN
METHOD:PUBLISH
X-WR-CALNAME:BCCAT
X-ORIGINAL-URL:https://www.bccat.ca
X-WR-CALDESC:Events for BCCAT
REFRESH-INTERVAL;VALUE=DURATION:PT1H
X-Robots-Tag:noindex
X-PUBLISHED-TTL:PT1H
BEGIN:VTIMEZONE
TZID:America/Vancouver
BEGIN:DAYLIGHT
TZOFFSETFROM:-0800
TZOFFSETTO:-0700
TZNAME:PDT
DTSTART:20230312T100000
END:DAYLIGHT
BEGIN:STANDARD
TZOFFSETFROM:-0700
TZOFFSETTO:-0800
TZNAME:PST
DTSTART:20231105T090000
END:STANDARD
BEGIN:DAYLIGHT
TZOFFSETFROM:-0800
TZOFFSETTO:-0700
TZNAME:PDT
DTSTART:20240310T100000
END:DAYLIGHT
BEGIN:STANDARD
TZOFFSETFROM:-0700
TZOFFSETTO:-0800
TZNAME:PST
DTSTART:20241103T090000
END:STANDARD
BEGIN:DAYLIGHT
TZOFFSETFROM:-0800
TZOFFSETTO:-0700
TZNAME:PDT
DTSTART:20250309T100000
END:DAYLIGHT
BEGIN:STANDARD
TZOFFSETFROM:-0700
TZOFFSETTO:-0800
TZNAME:PST
DTSTART:20251102T090000
END:STANDARD
END:VTIMEZONE
BEGIN:VEVENT
DTSTART;VALUE=DATE:20241202
DTEND;VALUE=DATE:20241203
DTSTAMP:20260425T080552
CREATED:20231206T183340Z
LAST-MODIFIED:20231206T183340Z
UID:10000148-1733097600-1733183999@www.bccat.ca
SUMMARY:Council
DESCRIPTION:
URL:https://www.bccat.ca/articulation-calendar/council-7/
LOCATION:TBD
CATEGORIES:Council
END:VEVENT
BEGIN:VEVENT
DTSTART;VALUE=DATE:20241024
DTEND;VALUE=DATE:20241026
DTSTAMP:20260425T080552
CREATED:20240903T165557Z
LAST-MODIFIED:20240903T165557Z
UID:10000217-1729728000-1729900799@www.bccat.ca
SUMMARY:Hairstylist
DESCRIPTION:
URL:https://www.bccat.ca/articulation-calendar/hairstylist-4/
LOCATION:VIU – Nanaimo Campus
CATEGORIES:Articulation Committees
END:VEVENT
BEGIN:VEVENT
DTSTART;VALUE=DATE:20241024
DTEND;VALUE=DATE:20241026
DTSTAMP:20260425T080552
CREATED:20231026T173450Z
LAST-MODIFIED:20231026T173450Z
UID:10000138-1729728000-1729900799@www.bccat.ca
SUMMARY:ABE Fundamental
DESCRIPTION:
URL:https://www.bccat.ca/articulation-calendar/abe-fundamental-2/
LOCATION:KPU – Surrey Campus
CATEGORIES:Articulation Committees
END:VEVENT
BEGIN:VEVENT
DTSTART;VALUE=DATE:20241023
DTEND;VALUE=DATE:20241024
DTSTAMP:20260425T080552
CREATED:20240611T220538Z
LAST-MODIFIED:20240611T220538Z
UID:10000215-1729641600-1729727999@www.bccat.ca
SUMMARY:Practical Nursing
DESCRIPTION:
URL:https://www.bccat.ca/articulation-calendar/practical-nursing-2/
LOCATION:VCC – Vancouver Downtown Campus
CATEGORIES:Articulation Committees
END:VEVENT
BEGIN:VEVENT
DTSTART;VALUE=DATE:20241023
DTEND;VALUE=DATE:20241024
DTSTAMP:20260425T080552
CREATED:20240611T220444Z
LAST-MODIFIED:20240611T220444Z
UID:10000214-1729641600-1729727999@www.bccat.ca
SUMMARY:Health Care Assistant Programs
DESCRIPTION:
URL:https://www.bccat.ca/articulation-calendar/health-care-assistant-programs-2/
LOCATION:VCC – Vancouver Downtown Campus
CATEGORIES:Articulation Committees
END:VEVENT
BEGIN:VEVENT
DTSTART;VALUE=DATE:20241018
DTEND;VALUE=DATE:20241019
DTSTAMP:20260425T080552
CREATED:20241007T205810Z
LAST-MODIFIED:20241007T205810Z
UID:10000218-1729209600-1729295999@www.bccat.ca
SUMMARY:Computing Education
DESCRIPTION:
URL:https://www.bccat.ca/articulation-calendar/computing-education-2/
LOCATION:North Island College – Comox Campus
CATEGORIES:Articulation Committees
END:VEVENT
BEGIN:VEVENT
DTSTART;VALUE=DATE:20241011
DTEND;VALUE=DATE:20241012
DTSTAMP:20260425T080552
CREATED:20240208T204711Z
LAST-MODIFIED:20240208T205103Z
UID:10000164-1728604800-1728691199@www.bccat.ca
SUMMARY:Research Committee
DESCRIPTION:
URL:https://www.bccat.ca/articulation-calendar/research-committee-4/
LOCATION:BCIT-Downtown Campus (BCCAT Boardroom 711)
CATEGORIES:Research
END:VEVENT
BEGIN:VEVENT
DTSTART;VALUE=DATE:20241007
DTEND;VALUE=DATE:20241008
DTSTAMP:20260425T080552
CREATED:20231206T183252Z
LAST-MODIFIED:20231206T183252Z
UID:10000147-1728259200-1728345599@www.bccat.ca
SUMMARY:Council
DESCRIPTION:
URL:https://www.bccat.ca/articulation-calendar/council-6/
LOCATION:TBD
CATEGORIES:Council
END:VEVENT
BEGIN:VEVENT
DTSTART;VALUE=DATE:20240927
DTEND;VALUE=DATE:20240928
DTSTAMP:20260425T080552
CREATED:20240208T204522Z
LAST-MODIFIED:20240208T204522Z
UID:10000163-1727395200-1727481599@www.bccat.ca
SUMMARY:Admissions Committee
DESCRIPTION:
URL:https://www.bccat.ca/articulation-calendar/admissions-committee-4/
LOCATION:BCIT-Downtown Campus (BCCAT Boardroom 711)
CATEGORIES:Admissions
END:VEVENT
BEGIN:VEVENT
DTSTART;VALUE=DATE:20240920
DTEND;VALUE=DATE:20240921
DTSTAMP:20260425T080552
CREATED:20240208T204939Z
LAST-MODIFIED:20240917T201457Z
UID:10000166-1726790400-1726876799@www.bccat.ca
SUMMARY:TAC
DESCRIPTION:
URL:https://www.bccat.ca/articulation-calendar/tac-4/
LOCATION:Online
CATEGORIES:TAC
END:VEVENT
BEGIN:VEVENT
DTSTART;VALUE=DATE:20240625
DTEND;VALUE=DATE:20240627
DTSTAMP:20260425T080552
CREATED:20240320T172306Z
LAST-MODIFIED:20240320T172306Z
UID:10000185-1719273600-1719446399@www.bccat.ca
SUMMARY:Sheet Metal
DESCRIPTION:
URL:https://www.bccat.ca/articulation-calendar/sheet-metal/
LOCATION:Okanagan College – Kelowna Campus
CATEGORIES:Articulation Committees
END:VEVENT
BEGIN:VEVENT
DTSTART;VALUE=DATE:20240625
DTEND;VALUE=DATE:20240626
DTSTAMP:20260425T080552
CREATED:20240223T220015Z
LAST-MODIFIED:20240223T220021Z
UID:10000173-1719273600-1719359999@www.bccat.ca
SUMMARY:Piping Trades
DESCRIPTION:
URL:https://www.bccat.ca/articulation-calendar/piping-trades/
LOCATION:BCIT – Burnaby Campus\, 3700 Willingdon Ave\, Burnaby\, BC - British Columbia\, V5G 3H2\, Canada
CATEGORIES:Articulation Committees
END:VEVENT
BEGIN:VEVENT
DTSTART;VALUE=DATE:20240624
DTEND;VALUE=DATE:20240626
DTSTAMP:20260425T080552
CREATED:20240430T215332Z
LAST-MODIFIED:20240430T215332Z
UID:10000192-1719187200-1719359999@www.bccat.ca
SUMMARY:Heavy Mechanical Trades
DESCRIPTION:
URL:https://www.bccat.ca/articulation-calendar/heavy-mechanical-trades/
LOCATION:North Island College – Comox Campus
CATEGORIES:Articulation Committees
END:VEVENT
BEGIN:VEVENT
DTSTART;VALUE=DATE:20240611
DTEND;VALUE=DATE:20240613
DTSTAMP:20260425T080552
CREATED:20240305T223803Z
LAST-MODIFIED:20240305T223803Z
UID:10000181-1718064000-1718236799@www.bccat.ca
SUMMARY:Carpentry
DESCRIPTION:
URL:https://www.bccat.ca/articulation-calendar/carpentry/
LOCATION:Camosun College – Interurban Campus
CATEGORIES:Articulation Committees
END:VEVENT
BEGIN:VEVENT
DTSTART;VALUE=DATE:20240610
DTEND;VALUE=DATE:20240612
DTSTAMP:20260425T080552
CREATED:20240118T224444Z
LAST-MODIFIED:20240322T163613Z
UID:10000156-1717977600-1718150399@www.bccat.ca
SUMMARY:Automotive Service Technician
DESCRIPTION:
URL:https://www.bccat.ca/articulation-calendar/automotive-service-technician-2/
LOCATION:Camosun College – Interurban Campus
CATEGORIES:Articulation Committees
END:VEVENT
BEGIN:VEVENT
DTSTART;VALUE=DATE:20240610
DTEND;VALUE=DATE:20240611
DTSTAMP:20260425T080552
CREATED:20231206T183214Z
LAST-MODIFIED:20240610T170057Z
UID:10000146-1717977600-1718063999@www.bccat.ca
SUMMARY:Council
DESCRIPTION:
URL:https://www.bccat.ca/articulation-calendar/council-5/
LOCATION:BCIT-Downtown Campus (BCCAT Boardroom 711)
CATEGORIES:Council
END:VEVENT
BEGIN:VEVENT
DTSTART;VALUE=DATE:20240605
DTEND;VALUE=DATE:20240607
DTSTAMP:20260425T080552
CREATED:20240228T191324Z
LAST-MODIFIED:20240228T191324Z
UID:10000179-1717545600-1717718399@www.bccat.ca
SUMMARY:Electrical
DESCRIPTION:
URL:https://www.bccat.ca/articulation-calendar/electrical/
LOCATION:North Island College – Comox Campus
CATEGORIES:Articulation Committees
END:VEVENT
BEGIN:VEVENT
DTSTART;VALUE=DATE:20240604
DTEND;VALUE=DATE:20240607
DTSTAMP:20260425T080552
CREATED:20240409T181730Z
LAST-MODIFIED:20240409T181730Z
UID:10000189-1717459200-1717718399@www.bccat.ca
SUMMARY:Welding
DESCRIPTION:
URL:https://www.bccat.ca/articulation-calendar/welding/
LOCATION:Okanagan College – Kelowna Campus
CATEGORIES:Articulation Committees
END:VEVENT
BEGIN:VEVENT
DTSTART;VALUE=DATE:20240604
DTEND;VALUE=DATE:20240606
DTSTAMP:20260425T080552
CREATED:20240131T203516Z
LAST-MODIFIED:20240131T203516Z
UID:10000160-1717459200-1717631999@www.bccat.ca
SUMMARY:Forestry and SRM
DESCRIPTION:
URL:https://www.bccat.ca/articulation-calendar/forestry-and-srm/
LOCATION:TRU – Kamloops Campus
CATEGORIES:Articulation Committees
END:VEVENT
BEGIN:VEVENT
DTSTART;VALUE=DATE:20240531
DTEND;VALUE=DATE:20240601
DTSTAMP:20260425T080552
CREATED:20240409T213543Z
LAST-MODIFIED:20240409T213543Z
UID:10000191-1717113600-1717199999@www.bccat.ca
SUMMARY:Anthropology
DESCRIPTION:
URL:https://www.bccat.ca/articulation-calendar/anthropology-2/
LOCATION:Douglas College – New Westminster Campus
CATEGORIES:Articulation Committees
END:VEVENT
BEGIN:VEVENT
DTSTART;VALUE=DATE:20240528
DTEND;VALUE=DATE:20240529
DTSTAMP:20260425T080552
CREATED:20240308T174047Z
LAST-MODIFIED:20240308T174047Z
UID:10000183-1716854400-1716940799@www.bccat.ca
SUMMARY:Indigenous
DESCRIPTION:
URL:https://www.bccat.ca/articulation-calendar/indigenous/
LOCATION:Online
CATEGORIES:Articulation Committees
END:VEVENT
BEGIN:VEVENT
DTSTART;VALUE=DATE:20240527
DTEND;VALUE=DATE:20240529
DTSTAMP:20260425T080552
CREATED:20240308T173930Z
LAST-MODIFIED:20240308T173930Z
UID:10000182-1716768000-1716940799@www.bccat.ca
SUMMARY:Earth Sciences
DESCRIPTION:
URL:https://www.bccat.ca/articulation-calendar/earth-sciences-2/
LOCATION:VIU – Nanaimo Campus
CATEGORIES:Articulation Committees
END:VEVENT
BEGIN:VEVENT
DTSTART;VALUE=DATE:20240527
DTEND;VALUE=DATE:20240529
DTSTAMP:20260425T080552
CREATED:20240110T200416Z
LAST-MODIFIED:20240110T200416Z
UID:10000154-1716768000-1716940799@www.bccat.ca
SUMMARY:Human Service Programs
DESCRIPTION:
URL:https://www.bccat.ca/articulation-calendar/human-service-programs/
LOCATION:College of New Caledonia – Prince George Campus
END:VEVENT
BEGIN:VEVENT
DTSTART;VALUE=DATE:20240524
DTEND;VALUE=DATE:20240525
DTSTAMP:20260425T080552
CREATED:20240408T174648Z
LAST-MODIFIED:20240408T174648Z
UID:10000187-1716508800-1716595199@www.bccat.ca
SUMMARY:Theatre
DESCRIPTION:
URL:https://www.bccat.ca/articulation-calendar/theatre/
LOCATION:Online
CATEGORIES:Articulation Committees
END:VEVENT
BEGIN:VEVENT
DTSTART;VALUE=DATE:20240524
DTEND;VALUE=DATE:20240525
DTSTAMP:20260425T080552
CREATED:20240322T162437Z
LAST-MODIFIED:20240322T162437Z
UID:10000186-1716508800-1716595199@www.bccat.ca
SUMMARY:Philosophy
DESCRIPTION:
URL:https://www.bccat.ca/articulation-calendar/philosophy/
LOCATION:University Canada West – Vancouver Campus
CATEGORIES:Articulation Committees
END:VEVENT
BEGIN:VEVENT
DTSTART;VALUE=DATE:20240524
DTEND;VALUE=DATE:20240525
DTSTAMP:20260425T080552
CREATED:20240208T204917Z
LAST-MODIFIED:20240208T204917Z
UID:10000165-1716508800-1716595199@www.bccat.ca
SUMMARY:TAC
DESCRIPTION:
URL:https://www.bccat.ca/articulation-calendar/tac-3/
LOCATION:BCIT-Downtown Campus (BCCAT Boardroom 711)
CATEGORIES:TAC
END:VEVENT
BEGIN:VEVENT
DTSTART;VALUE=DATE:20240522
DTEND;VALUE=DATE:20240524
DTSTAMP:20260425T080552
CREATED:20240111T201204Z
LAST-MODIFIED:20240111T210540Z
UID:10000155-1716336000-1716508799@www.bccat.ca
SUMMARY:Accessible Education and Training
DESCRIPTION:
URL:https://www.bccat.ca/articulation-calendar/adult-special-education/
LOCATION:VCC – Vancouver Downtown Campus
END:VEVENT
BEGIN:VEVENT
DTSTART;VALUE=DATE:20240522
DTEND;VALUE=DATE:20240523
DTSTAMP:20260425T080552
CREATED:20240514T183758Z
LAST-MODIFIED:20240514T183758Z
UID:10000200-1716336000-1716422399@www.bccat.ca
SUMMARY:Environmental
DESCRIPTION:
URL:https://www.bccat.ca/articulation-calendar/environmental/
LOCATION:Online
CATEGORIES:Articulation Committees
END:VEVENT
BEGIN:VEVENT
DTSTART;VALUE=DATE:20240515
DTEND;VALUE=DATE:20240517
DTSTAMP:20260425T080552
CREATED:20240409T190623Z
LAST-MODIFIED:20240409T191427Z
UID:10000190-1715731200-1715903999@www.bccat.ca
SUMMARY:Visual Art & Design
DESCRIPTION:
URL:https://www.bccat.ca/articulation-calendar/visual-art-design/
LOCATION:LaSalle College Vancouver
CATEGORIES:Articulation Committees
END:VEVENT
BEGIN:VEVENT
DTSTART;VALUE=DATE:20240514
DTEND;VALUE=DATE:20240516
DTSTAMP:20260425T080552
CREATED:20240212T165539Z
LAST-MODIFIED:20240212T165539Z
UID:10000168-1715644800-1715817599@www.bccat.ca
SUMMARY:Mathematics-Statistics
DESCRIPTION:
URL:https://www.bccat.ca/articulation-calendar/mathematics-statistics/
LOCATION:Douglas College – New Westminster Campus
CATEGORIES:Articulation Committees
END:VEVENT
END:VCALENDAR