BEGIN:VCALENDAR
VERSION:2.0
PRODID:-//BCCAT - ECPv6.15.19//NONSGML v1.0//EN
CALSCALE:GREGORIAN
METHOD:PUBLISH
X-WR-CALNAME:BCCAT
X-ORIGINAL-URL:https://www.bccat.ca
X-WR-CALDESC:Events for BCCAT
REFRESH-INTERVAL;VALUE=DURATION:PT1H
X-Robots-Tag:noindex
X-PUBLISHED-TTL:PT1H
BEGIN:VTIMEZONE
TZID:America/Vancouver
BEGIN:DAYLIGHT
TZOFFSETFROM:-0800
TZOFFSETTO:-0700
TZNAME:PDT
DTSTART:20230312T100000
END:DAYLIGHT
BEGIN:STANDARD
TZOFFSETFROM:-0700
TZOFFSETTO:-0800
TZNAME:PST
DTSTART:20231105T090000
END:STANDARD
BEGIN:DAYLIGHT
TZOFFSETFROM:-0800
TZOFFSETTO:-0700
TZNAME:PDT
DTSTART:20240310T100000
END:DAYLIGHT
BEGIN:STANDARD
TZOFFSETFROM:-0700
TZOFFSETTO:-0800
TZNAME:PST
DTSTART:20241103T090000
END:STANDARD
BEGIN:DAYLIGHT
TZOFFSETFROM:-0800
TZOFFSETTO:-0700
TZNAME:PDT
DTSTART:20250309T100000
END:DAYLIGHT
BEGIN:STANDARD
TZOFFSETFROM:-0700
TZOFFSETTO:-0800
TZNAME:PST
DTSTART:20251102T090000
END:STANDARD
END:VTIMEZONE
BEGIN:VEVENT
DTSTART;VALUE=DATE:20240509
DTEND;VALUE=DATE:20240510
DTSTAMP:20260425T082920
CREATED:20240312T190007Z
LAST-MODIFIED:20240312T190007Z
UID:10000184-1715212800-1715299199@www.bccat.ca
SUMMARY:Geography
DESCRIPTION:
URL:https://www.bccat.ca/articulation-calendar/geography-2/
LOCATION:Online
CATEGORIES:Articulation Committees
END:VEVENT
BEGIN:VEVENT
DTSTART;VALUE=DATE:20240508
DTEND;VALUE=DATE:20240509
DTSTAMP:20260425T082920
CREATED:20240226T193536Z
LAST-MODIFIED:20240226T193536Z
UID:10000177-1715126400-1715212799@www.bccat.ca
SUMMARY:Music
DESCRIPTION:
URL:https://www.bccat.ca/articulation-calendar/music/
LOCATION:Capilano University
END:VEVENT
BEGIN:VEVENT
DTSTART;VALUE=DATE:20240506
DTEND;VALUE=DATE:20240508
DTSTAMP:20260425T082920
CREATED:20240501T174427Z
LAST-MODIFIED:20240501T174427Z
UID:10000193-1714953600-1715126399@www.bccat.ca
SUMMARY:Physical Education & Kinesiology
DESCRIPTION:
URL:https://www.bccat.ca/articulation-calendar/physical-education-kinesiology/
LOCATION:Douglas College – New Westminster Campus
CATEGORIES:Articulation Committees
END:VEVENT
BEGIN:VEVENT
DTSTART;VALUE=DATE:20240506
DTEND;VALUE=DATE:20240507
DTSTAMP:20260425T082920
CREATED:20240205T214247Z
LAST-MODIFIED:20240205T214257Z
UID:10000161-1714953600-1715039999@www.bccat.ca
SUMMARY:History
DESCRIPTION:
URL:https://www.bccat.ca/articulation-calendar/history-2/
LOCATION:North Island College – Comox Campus
CATEGORIES:Articulation Committees
END:VEVENT
BEGIN:VEVENT
DTSTART;VALUE=DATE:20240503
DTEND;VALUE=DATE:20240504
DTSTAMP:20260425T082920
CREATED:20240305T184718Z
LAST-MODIFIED:20240305T184718Z
UID:10000180-1714694400-1714780799@www.bccat.ca
SUMMARY:Political Science
DESCRIPTION:
URL:https://www.bccat.ca/articulation-calendar/political-science/
LOCATION:VIU – Nanaimo Campus
CATEGORIES:Articulation Committees
END:VEVENT
BEGIN:VEVENT
DTSTART;VALUE=DATE:20240503
DTEND;VALUE=DATE:20240504
DTSTAMP:20260425T082920
CREATED:20240129T175533Z
LAST-MODIFIED:20240129T175601Z
UID:10000158-1714694400-1714780799@www.bccat.ca
SUMMARY:Physics & Astronomy
DESCRIPTION:
URL:https://www.bccat.ca/articulation-calendar/physics-astronomy/
LOCATION:Langara College
CATEGORIES:Articulation Committees
END:VEVENT
BEGIN:VEVENT
DTSTART;VALUE=DATE:20240503
DTEND;VALUE=DATE:20240504
DTSTAMP:20260425T082920
CREATED:20231031T164420Z
LAST-MODIFIED:20231031T164420Z
UID:10000139-1714694400-1714780799@www.bccat.ca
SUMMARY:Chemistry
DESCRIPTION:
URL:https://www.bccat.ca/articulation-calendar/chemistry/
LOCATION:Douglas College – New Westminster Campus
END:VEVENT
BEGIN:VEVENT
DTSTART;VALUE=DATE:20240503
DTEND;VALUE=DATE:20240504
DTSTAMP:20260425T082920
CREATED:20231016T171405Z
LAST-MODIFIED:20231016T171405Z
UID:10000136-1714694400-1714780799@www.bccat.ca
SUMMARY:SCOLA
DESCRIPTION:
URL:https://www.bccat.ca/articulation-calendar/scola-2/
LOCATION:UBC – Vancouver Campus
CATEGORIES:Articulation Committees
END:VEVENT
BEGIN:VEVENT
DTSTART;VALUE=DATE:20240503
DTEND;VALUE=DATE:20240504
DTSTAMP:20260425T082920
CREATED:20230608T181335Z
LAST-MODIFIED:20230608T181335Z
UID:10000120-1714694400-1714780799@www.bccat.ca
SUMMARY:English
DESCRIPTION:
URL:https://www.bccat.ca/articulation-calendar/english/
LOCATION:Fairleigh Dickinson Universitiy
CATEGORIES:Articulation Committees
END:VEVENT
BEGIN:VEVENT
DTSTART;VALUE=DATE:20240502
DTEND;VALUE=DATE:20240504
DTSTAMP:20260425T082920
CREATED:20240226T201029Z
LAST-MODIFIED:20240226T201029Z
UID:10000178-1714608000-1714780799@www.bccat.ca
SUMMARY:Business Educators
DESCRIPTION:
URL:https://www.bccat.ca/articulation-calendar/business-educators-2/
LOCATION:Yorkville University
CATEGORIES:Articulation Committees
END:VEVENT
BEGIN:VEVENT
DTSTART;VALUE=DATE:20240502
DTEND;VALUE=DATE:20240504
DTSTAMP:20260425T082920
CREATED:20240212T235644Z
LAST-MODIFIED:20240212T235711Z
UID:10000169-1714608000-1714780799@www.bccat.ca
SUMMARY:Psychology
DESCRIPTION:
URL:https://www.bccat.ca/articulation-calendar/psychology-2/
LOCATION:Camosun College – Interurban Campus
CATEGORIES:Articulation Committees
END:VEVENT
BEGIN:VEVENT
DTSTART;VALUE=DATE:20240502
DTEND;VALUE=DATE:20240504
DTSTAMP:20260425T082920
CREATED:20230731T172157Z
LAST-MODIFIED:20230731T172157Z
UID:10000131-1714608000-1714780799@www.bccat.ca
SUMMARY:ABE Steering
DESCRIPTION:
URL:https://www.bccat.ca/articulation-calendar/abe-steering/
LOCATION:TRU – Kamloops Campus
CATEGORIES:Articulation Committees
END:VEVENT
BEGIN:VEVENT
DTSTART;VALUE=DATE:20240502
DTEND;VALUE=DATE:20240504
DTSTAMP:20260425T082920
CREATED:20230718T181917Z
LAST-MODIFIED:20240501T183955Z
UID:10000128-1714608000-1714780799@www.bccat.ca
SUMMARY:Biology
DESCRIPTION:
URL:https://www.bccat.ca/articulation-calendar/biology-2024/
LOCATION:University of Victoria
CATEGORIES:Articulation Committees
END:VEVENT
BEGIN:VEVENT
DTSTART;VALUE=DATE:20240502
DTEND;VALUE=DATE:20240503
DTSTAMP:20260425T082920
CREATED:20240209T210225Z
LAST-MODIFIED:20240209T210225Z
UID:10000167-1714608000-1714694399@www.bccat.ca
SUMMARY:Engineering
DESCRIPTION:
URL:https://www.bccat.ca/articulation-calendar/engineering-2/
LOCATION:Langara College
CATEGORIES:Articulation Committees
END:VEVENT
BEGIN:VEVENT
DTSTART;VALUE=DATE:20240429
DTEND;VALUE=DATE:20240501
DTSTAMP:20260425T082920
CREATED:20240226T190718Z
LAST-MODIFIED:20240226T190718Z
UID:10000175-1714348800-1714521599@www.bccat.ca
SUMMARY:Economics
DESCRIPTION:
URL:https://www.bccat.ca/articulation-calendar/economics-2/
LOCATION:Langara College
END:VEVENT
BEGIN:VEVENT
DTSTART;VALUE=DATE:20240429
DTEND;VALUE=DATE:20240501
DTSTAMP:20260425T082920
CREATED:20240223T165933Z
LAST-MODIFIED:20240223T165933Z
UID:10000170-1714348800-1714521599@www.bccat.ca
SUMMARY:The Health Educators
DESCRIPTION:
URL:https://www.bccat.ca/articulation-calendar/the-health-educators/
LOCATION:Camosun College – Interurban Campus
CATEGORIES:Articulation Committees
END:VEVENT
BEGIN:VEVENT
DTSTART;VALUE=DATE:20240426
DTEND;VALUE=DATE:20240427
DTSTAMP:20260425T082920
CREATED:20231107T174806Z
LAST-MODIFIED:20240206T195551Z
UID:10000140-1714089600-1714175999@www.bccat.ca
SUMMARY:Creative Writing
DESCRIPTION:
URL:https://www.bccat.ca/articulation-calendar/creative-writing-2/
LOCATION:UBC – Vancouver Campus
CATEGORIES:Articulation Committees
END:VEVENT
BEGIN:VEVENT
DTSTART;VALUE=DATE:20240425
DTEND;VALUE=DATE:20240427
DTSTAMP:20260425T082920
CREATED:20230505T212223Z
LAST-MODIFIED:20230926T195316Z
UID:10000116-1714003200-1714175999@www.bccat.ca
SUMMARY:Dental Hygiene
DESCRIPTION:
URL:https://www.bccat.ca/articulation-calendar/dental-hygiene/
LOCATION:BCIT-Downtown Campus (BCCAT Boardroom 711)
CATEGORIES:Articulation Committees
END:VEVENT
BEGIN:VEVENT
DTSTART;VALUE=DATE:20240425
DTEND;VALUE=DATE:20240426
DTSTAMP:20260425T082920
CREATED:20231114T183826Z
LAST-MODIFIED:20240229T230201Z
UID:10000143-1714003200-1714089599@www.bccat.ca
SUMMARY:Hospitality Management
DESCRIPTION:
URL:https://www.bccat.ca/articulation-calendar/hospitality-management/
LOCATION:Online
CATEGORIES:Articulation Committees
END:VEVENT
BEGIN:VEVENT
DTSTART;VALUE=DATE:20240425
DTEND;VALUE=DATE:20240426
DTSTAMP:20260425T082920
CREATED:20231114T183733Z
LAST-MODIFIED:20240229T230122Z
UID:10000142-1714003200-1714089599@www.bccat.ca
SUMMARY:Tourism Management
DESCRIPTION:
URL:https://www.bccat.ca/articulation-calendar/tourism-management/
LOCATION:Online
END:VEVENT
BEGIN:VEVENT
DTSTART;VALUE=DATE:20240418
DTEND;VALUE=DATE:20240420
DTSTAMP:20260425T082920
CREATED:20240205T214837Z
LAST-MODIFIED:20240205T214837Z
UID:10000162-1713398400-1713571199@www.bccat.ca
SUMMARY:Hairstylist
DESCRIPTION:
URL:https://www.bccat.ca/articulation-calendar/hairstylist-3/
LOCATION:VCC – Vancouver Downtown Campus
CATEGORIES:Articulation Committees
END:VEVENT
BEGIN:VEVENT
DTSTART;VALUE=DATE:20240418
DTEND;VALUE=DATE:20240420
DTSTAMP:20260425T082920
CREATED:20230505T174421Z
LAST-MODIFIED:20230605T181326Z
UID:10000115-1713398400-1713571199@www.bccat.ca
SUMMARY:Dental Assisting
DESCRIPTION:
URL:https://www.bccat.ca/articulation-calendar/dental-assisting/
LOCATION:BCIT-Downtown Campus (BCCAT Boardroom 711)
CATEGORIES:Articulation Committees
END:VEVENT
BEGIN:VEVENT
DTSTART;VALUE=DATE:20240311
DTEND;VALUE=DATE:20240312
DTSTAMP:20260425T082920
CREATED:20231206T183120Z
LAST-MODIFIED:20240307T171759Z
UID:10000145-1710115200-1710201599@www.bccat.ca
SUMMARY:Council
DESCRIPTION:
URL:https://www.bccat.ca/articulation-calendar/council-4/
LOCATION:BCIT – Downtown Campus
CATEGORIES:Council
END:VEVENT
BEGIN:VEVENT
DTSTART;VALUE=DATE:20240307
DTEND;VALUE=DATE:20240309
DTSTAMP:20260425T082920
CREATED:20230731T171904Z
LAST-MODIFIED:20230731T171904Z
UID:10000130-1709769600-1709942399@www.bccat.ca
SUMMARY:ABE First Peoples
DESCRIPTION:
URL:https://www.bccat.ca/articulation-calendar/abe-first-peoples/
LOCATION:Capilano University
CATEGORIES:Articulation Committees
END:VEVENT
BEGIN:VEVENT
DTSTART;VALUE=DATE:20240307
DTEND;VALUE=DATE:20240309
DTSTAMP:20260425T082920
CREATED:20230731T171808Z
LAST-MODIFIED:20230731T171808Z
UID:10000129-1709769600-1709942399@www.bccat.ca
SUMMARY:ABE English
DESCRIPTION:
URL:https://www.bccat.ca/articulation-calendar/abe-english-2/
LOCATION:Capilano University
CATEGORIES:Articulation Committees
END:VEVENT
BEGIN:VEVENT
DTSTART;VALUE=DATE:20240307
DTEND;VALUE=DATE:20240309
DTSTAMP:20260425T082920
CREATED:20230717T165004Z
LAST-MODIFIED:20230717T165004Z
UID:10000127-1709769600-1709942399@www.bccat.ca
SUMMARY:ABE Math
DESCRIPTION:
URL:https://www.bccat.ca/articulation-calendar/abe-math/
LOCATION:Capilano University
CATEGORIES:Articulation Committees
END:VEVENT
BEGIN:VEVENT
DTSTART;VALUE=DATE:20240307
DTEND;VALUE=DATE:20240309
DTSTAMP:20260425T082920
CREATED:20230612T174511Z
LAST-MODIFIED:20240109T213317Z
UID:10000124-1709769600-1709942399@www.bccat.ca
SUMMARY:ABE Education & Career Planning
DESCRIPTION:
URL:https://www.bccat.ca/articulation-calendar/abe-education-career-planning/
LOCATION:Capilano University
CATEGORIES:Articulation Committees
END:VEVENT
BEGIN:VEVENT
DTSTART;VALUE=DATE:20240307
DTEND;VALUE=DATE:20240309
DTSTAMP:20260425T082920
CREATED:20230612T174330Z
LAST-MODIFIED:20230731T171938Z
UID:10000123-1709769600-1709942399@www.bccat.ca
SUMMARY:ABE Computer Studies
DESCRIPTION:
URL:https://www.bccat.ca/articulation-calendar/abe-computer-studies-2024/
LOCATION:Capilano University
CATEGORIES:Articulation Committees
END:VEVENT
BEGIN:VEVENT
DTSTART;VALUE=DATE:20240209
DTEND;VALUE=DATE:20240210
DTSTAMP:20260425T082920
CREATED:20230505T173525Z
LAST-MODIFIED:20231206T184048Z
UID:10000111-1707436800-1707523199@www.bccat.ca
SUMMARY:Research Committee
DESCRIPTION:
URL:https://www.bccat.ca/articulation-calendar/research-committee-2/
LOCATION:BCIT-Downtown Campus (BCCAT Boardroom 711)
CATEGORIES:Research
END:VEVENT
BEGIN:VEVENT
DTSTART;VALUE=DATE:20240202
DTEND;VALUE=DATE:20240203
DTSTAMP:20260425T082920
CREATED:20230929T193818Z
LAST-MODIFIED:20230929T193818Z
UID:10000135-1706832000-1706918399@www.bccat.ca
SUMMARY:TAC
DESCRIPTION:
URL:https://www.bccat.ca/articulation-calendar/tac-2/
LOCATION:BCIT-Downtown Campus (BCCAT Boardroom 711)
CATEGORIES:TAC
END:VEVENT
END:VCALENDAR